Workbook

Sheet 問題
B2: =RIGHT(CELL("filename",A1),LEN(CELL("filename",A1))-FIND("]", CELL("filename",A1))) -> 問題
C4: 下記は「対象者」シートに対する問題です。 | I4: Hint
B5: No | C5: 問い | D5: 回答欄
B6: 1 | C6: 男性の人数を計算しなさい。 | I6: …countif
B7: 2 | C7: 男性の既婚率を計算しなさい。 | I7: …countif,countifs
B8: 3 | C8: 全ての科目（5科目）で70点以上の結果を出している人数を計算しなさい。 | I8: …countifs,and
B9: 4 | C9: 5科目中いずれかの科目で60点未満の結果を出している人数を計算しなさい。 | I9: …countifs,or
B10: 5 | C10: 5科目の平均点が70点以上で、1科目も60点未満の科目がない結果を出している人数を計算しなさい。 | I10: …countifs,and,or,if
B11: 6 | C11: 1980年代に生まれた女性の「国語」の平均点を計算しなさい。 | I11: …averageifs,average
B12: 7 | C12: "I12"セルに表示されている誕生日に該当する人の現住所を表示しなさい。（誕生日に重複はありません） | G12: 誕生日 | H12: 22920 | I12: …vlookup
B13: 8 | C13: 誤った年齢の人が何人いるか計算しなさい。（誕生日が正とする） | I13: …countif,datedif
B14: 9 | C14: 男性の英語の平均点と女性の英語の平均点を比較し、高い方の性別を表示しなさい。 | I14: …if,average,averageif
B15: 10 | C15: 30代女性で「東京都または神奈川県」にお住まいの、既婚者のうち最も「英語」が出来る人の名前を表示しなさい。 | I15: …vlookup,and,or,max,if
C16: （チャレンジ問題1）今日以降で最も誕生日が近い人の名前を表示しなさい。
C17: （チャレンジ問題2）対象者シートのG列で「男」のセルだけ青文字にしなさい。
C18: （チャレンジ問題3）東京・神奈川・千葉・埼玉の男女の人数を表にまとめ、グラフ化しなさい。

Sheet 対象者
E2: 基本情報 | M2: テスト結果
E3: No | F3: なまえ | G3: 性別 | H3: 年齢 | I3: 誕生日 | J3: 婚姻 | K3: 年収（万円） | L3: 現住所 | M3: 国語 | N3: 数学 | O3: 理科 | P3: 社会 | Q3: 英語
E4: =ROW()-3 -> 1 | F4: いだ としえ | G4: 女 | H4: =DATEDIF(I4,TODAY(),"Y") -> 69 | I4: 19318 | J4: 既婚 | K4: 625 | L4: 東京都 | M4: 98 | N4: 18 | O4: 85 | P4: 87 | Q4: 55
E5: =ROW()-3 -> 2 | F5: みはし ゆうじろう | G5: 男 | H5: =DATEDIF(I5,TODAY(),"Y") -> 41 | I5: 29365 | J5: 既婚 | K5: 813 | L5: 埼玉県 | M5: 71 | N5: 89 | O5: 26 | P5: 83 | Q5: 69
E6: =ROW()-3 -> 3 | F6: いしやま りゅうきち | G6: 男 | H6: =DATEDIF(I6,TODAY(),"Y") -> 33 | I6: 32504 | J6: 未婚 | K6: 623 | L6: 東京都 | M6: 25 | N6: 33 | O6: 60 | P6: 44 | Q6: 69
E7: =ROW()-3 -> 4 | F7: ふるた しんいち | G7: 男 | H7: =DATEDIF(I7,TODAY(),"Y") -> 74 | I7: 17305 | J7: 既婚 | K7: 348 | L7: 岡山県 | M7: 23 | N7: 43 | O7: 56 | P7: 42 | Q7: 85
E8: =ROW()-3 -> 5 | F8: ながしま ひろあき | G8: 男 | H8: =DATEDIF(I8,TODAY(),"Y") -> 74 | I8: 17472 | J8: 既婚 | K8: 1099 | L8: 宮崎県 | M8: 40 | N8: 56 | O8: 97 | P8: 19 | Q8: 25
E9: =ROW()-3 -> 6 | F9: ほんやま はなこ | G9: 女 | H9: =DATEDIF(I9,TODAY(),"Y") -> 80 | I9: 15222 | J9: 既婚 | K9: 715 | L9: 島根県 | M9: 52 | N9: 60 | O9: 32 | P9: 62 | Q9: 39
E10: =ROW()-3 -> 7 | F10: ありた ゆういち | G10: 男 | H10: =DATEDIF(I10,TODAY(),"Y") -> 85 | I10: 13559 | J10: 既婚 | K10: 587 | L10: 広島県 | M10: 70 | N10: 60 | O10: 33 | P10: 70 | Q10: 32
E11: =ROW()-3 -> 8 | F11: おいかわ いくこ | G11: 女 | H11: =DATEDIF(I11,TODAY(),"Y") -> 40 | I11: 29827 | J11: 既婚 | K11: 656 | L11: 千葉県 | M11: 61 | N11: 56 | O11: 37 | P11: 68 | Q11: 46
E12: =ROW()-3 -> 9 | F12: いしはら まさひこ | G12: 男 | H12: =DATEDIF(I12,TODAY(),"Y") -> 26 | I12: 35153 | J12: 未婚 | K12: 484 | L12: 兵庫県 | M12: 88 | N12: 57 | O12: 56 | P12: 54 | Q12: 90
E13: =ROW()-3 -> 10 | F13: たきぐち けん | G13: 男 | H13: =DATEDIF(I13,TODAY(),"Y") -> 81 | I13: 14919 | J13: 既婚 | K13: 753 | L13: 北海道 | M13: 68 | N13: 78 | O13: 44 | P13: 54 | Q13: 82
E14: =ROW()-3 -> 11 | F14: あい あみ | G14: 女 | H14: =DATEDIF(I14,TODAY(),"Y") -> 64 | I14: 20939 | J14: 既婚 | K14: 504 | L14: 愛媛県 | M14: 53 | N14: 47 | O14: 31 | P14: 46 | Q14: 65
E15: =ROW()-3 -> 12 | F15: よこかわ ひとり | G15: 男 | H15: =DATEDIF(I15,TODAY(),"Y") -> 27 | I15: 34534 | J15: 未婚 | K15: 721 | L15: 愛知県 | M15: 58 | N15: 54 | O15: 78 | P15: 79 | Q15: 63
... E24: =ROW()-3 -> 21 | F24: とよた けいこ | G24: 女 | H24: =DATEDIF(I24,TODAY(),"Y") -> 38 | I24: 30494 | J24: 既婚 | K24: 390 | L24: 栃木県 | M24: 77 | N24: 56 | O24: 46 | P24: 53 | Q24: 99
E25: =ROW()-3 -> 22 | F25: ふるや ほうし | G25: 男 | H25: 41 | I25: 28598 | J25: 既婚 | K25: 573 | L25: 福島県 | M25: 26 | N25: 81 | O25: 38 | P25: 63 | Q25: 82
E26: =ROW()-3 -> 23 | F26: ながやま さとみ | G26: 女 | H26: =DATEDIF(I26,TODAY(),"Y") -> 56 | I26: 23984 | J26: 既婚 | K26: 413 | L26: 神奈川県 | M26: 70 | N26: 91 | O26: 75 | P26: 63 | Q26: 67
E27: =ROW()-3 -> 24 | F27: みやわき さとみ | G27: 女 | H27: =DATEDIF(I27,TODAY(),"Y") -> 47 | I27: 27338 | J27: 既婚 | K27: 403 | L27: 石川県 | M27: 100 | N27: 90 | O27: 48 | P27: 33 | Q27: 49
E28: =ROW()-3 -> 25 | F28: はしの ろくろう | G28: 男 | H28: =DATEDIF(I28,TODAY(),"Y") -> 52 | I28: 25480 | J28: 既婚 | K28: 762 | L28: 愛知県 | M28: 91 | N28: 87 | O28: 40 | P28: 34 | Q28: 81
E29: =ROW()-3 -> 26 | F29: やなぎはら のりこ | G29: 女 | H29: =DATEDIF(I29,TODAY(),"Y") -> 53 | I29: 25096 | J29: 既婚 | K29: 574 | L29: 鹿児島県 | M29: 27 | N29: 82 | O29: 88 | P29: 36 | Q29: 74
E30: =ROW()-3 -> 27 | F30: やすなが みつる | G30: 男 | H30: =DATEDIF(I30,TODAY(),"Y") -> 54 | I30: 24631 | J30: 既婚 | K30: 321 | L30: 神奈川県 | M30: 90 | N30: 66 | O30: 43 | P30: 60 | Q30: 96
E31: =ROW()-3 -> 28 | F31: やまの じろーらも | G31: 男 | H31: =DATEDIF(I31,TODAY(),"Y") -> 77 | I31: 16483 | J31: 既婚 | K31: 723 | L31: 愛知県 | M31: 22 | N31: 67 | O31: 67 | P31: 29 | Q31: 51
E32: =ROW()-3 -> 29 | F32: ねもと ももこ | G32: 女 | H32: =DATEDIF(I32,TODAY(),"Y") -> 82 | I32: 14624 | J32: 既婚 | K32: 860 | L32: 岐阜県 | M32: 29 | N32: 67 | O32: 39 | P32: 49 | Q32: 99
E33: =ROW()-3 -> 30 | F33: たなか みあ | G33: 女 | H33: =DATEDIF(I33,TODAY(),"Y") -> 86 | I33: 13120 | J33: 既婚 | K33: 779 | L33: 神奈川県 | M33: 32 | N33: 47 | O33: 48 | P33: 32 | Q33: 74
E34: =ROW()-3 -> 31 | F34: まつしま あさひ | G34: 女 | H34: =DATEDIF(I34,TODAY(),"Y") -> 29 | I34: 33948 | J34: 未婚 | K34: 894 | L34: 宮崎県 | M34: 28 | N34: 37 | O34: 79 | P34: 62 | Q34: 82
E35: =ROW()-3 -> 32 | F35: てらもと かんじ | G35: 男 | H35: =DATEDIF(I35,TODAY(),"Y") -> 51 | I35: 25948 | J35: 既婚 | K35: 376 | L35: 愛知県 | M35: 69 | N35: 37 | O35: 76 | P35: 94 | Q35: 81
E36: =ROW()-3 -> 33 | F36: かつらやま ふみや | G36: 男 | H36: =DATEDIF(I36,TODAY(),"Y") -> 82 | I36: 14673 | J36: 既婚 | K36: 732 | L36: 愛知県 | M36: 18 | N36: 49 | O36: 76 | P36: 93 | Q36: 31
E37: =ROW()-3 -> 34 | F37: ひろせ まもる | G37: 男 | H37: =DATEDIF(I37,TODAY(),"Y") -> 28 | I37: 34413 | J37: 未婚 | K37: 1018 | L37: 宮城県 | M37: 82 | N37: 53 | O37: 54 | P37: 92 | Q37: 18
... E151: =ROW()-3 -> 148 | F151: はたやま すばる | G151: 男 | H151: =DATEDIF(I151,TODAY(),"Y") -> 84 | I151: 13792 | J151: 既婚 | K151: 1007 | L151: 兵庫県 | M151: 58 | N151: 67 | O151: 59 | P151: 60 | Q151: 81
E152: =ROW()-3 -> 149 | F152: きむら えりか | G152: 女 | H152: =DATEDIF(I152,TODAY(),"Y") -> 0 | I152: =TODAY() -> 44659 | J152: 既婚 | K152: 540 | L152: 埼玉県 | M152: 20 | N152: 27 | O152: 35 | P152: 46 | Q152: 52
E153: =ROW()-3 -> 150 | F153: すみ れな | G153: 女 | H153: =DATEDIF(I153,TODAY(),"Y") -> 51 | I153: 25837 | J153: 既婚 | K153: 779 | L153: 三重県 | M153: 63 | N153: 34 | O153: 19 | P153: 93 | Q153: 45
E154: =ROW()-3 -> 151 | F154: いけうち なつみ | G154: 女 | H154: =DATEDIF(I154,TODAY(),"Y") -> 41 | I154: 29428 | J154: 未婚 | K154: 1032 | L154: 高知県 | M154: 61 | N154: 84 | O154: 72 | P154: 39 | Q154: 98
E155: =ROW()-3 -> 152 | F155: くらもち ながとし | G155: 男 | H155: =DATEDIF(I155,TODAY(),"Y") -> 25 | I155: 35235 | J155: 未婚 | K155: 760 | L155: 群馬県 | M155: 44 | N155: 69 | O155: 89 | P155: 63 | Q155: 84
E156: =ROW()-3 -> 153 | F156: むらせ つとむ | G156: 男 | H156: =DATEDIF(I156,TODAY(),"Y") -> 61 | I156: 22070 | J156: 既婚 | K156: 819 | L156: 長野県 | M156: 73 | N156: 20 | O156: 44 | P156: 51 | Q156: 45
E157: =ROW()-3 -> 154 | F157: きくち あきよし | G157: 男 | H157: =DATEDIF(I157,TODAY(),"Y") -> 59 | I157: 23073 | J157: 既婚 | K157: 1089 | L157: 群馬県 | M157: 93 | N157: 67 | O157: 88 | P157: 65 | Q157: 81
E158: =ROW()-3 -> 155 | F158: ふるや しんご | G158: 男 | H158: =DATEDIF(I158,TODAY(),"Y") -> 31 | I158: 33146 | J158: 既婚 | K158: 442 | L158: 東京都 | M158: 33 | N158: 61 | O158: 36 | P158: 98 | Q158: 61
E159: =ROW()-3 -> 156 | F159: いまむら ようすけ | G159: 男 | H159: =DATEDIF(I159,TODAY(),"Y") -> 34 | I159: 31883 | J159: 既婚 | K159: 339 | L159: 福岡県 | M159: 65 | N159: 20 | O159: 83 | P159: 23 | Q159: 30
E160: =ROW()-3 -> 157 | F160: あべ かおる | G160: 男 | H160: =DATEDIF(I160,TODAY(),"Y") -> 70 | I160: 18854 | J160: 既婚 | K160: 541 | L160: 広島県 | M160: 49 | N160: 84 | O160: 42 | P160: 30 | Q160: 82
E161: =ROW()-3 -> 158 | F161: ひろすえ そうた | G161: 男 | H161: =DATEDIF(I161,TODAY(),"Y") -> 45 | I161: 28107 | J161: 既婚 | K161: 943 | L161: 佐賀県 | M161: 75 | N161: 66 | O161: 63 | P161: 57 | Q161: 94
E162: =ROW()-3 -> 159 | F162: おぎ よしき | G162: 男 | H162: =DATEDIF(I162,TODAY(),"Y") -> 81 | I162: 14783 | J162: 既婚 | K162: 1011 | L162: 愛知県 | M162: 33 | N162: 59 | O162: 32 | P162: 57 | Q162: 18
...

Sheet 【解答】問題
B2: =RIGHT(CELL("filename",A1),LEN(CELL("filename",A1))-FIND("]", CELL("filename",A1))) -> 【解答】問題
C4: 下記は「対象者」シートに対する問題です。 | I4: Hint
B5: No | C5: 問い | D5: 回答例
B6: =ROW()-5 -> 1 | C6: 男性の人数を計算しなさい。 | D6: =COUNTIF(【解答】対象者!G:G,"男") -> 241 | I6: …countif
B7: =ROW()-5 -> 2 | C7: 男性の既婚率を計算しなさい。 | D7: =COUNTIFS(【解答】対象者!G:G,"男",【解答】対象者!J:J,"既婚")/D6 -> 0.82572614 | I7: …countif,countifs
B8: =ROW()-5 -> 3 | C8: 全ての科目（5科目）で70点以上の結果を出している人数を計算しなさい。 | D8: =SUM(【解答】対象者!R:R) -> 7 | I8: …countifs,and
B9: =ROW()-5 -> 4 | C9: 5科目中いずれかの科目で60点未満の結果を出している人数を計算しなさい。 | D9: =SUM(【解答】対象者!S4:S502) -> 480 | I9: …countifs,or
B10: =ROW()-5 -> 5 | C10: 5科目の平均点が70点以上で、1科目も60点未満の科目がない結果を出している人数を計算しなさい。 | D10: =COUNTIFS(【解答】対象者!S4:S502,0,【解答】対象者!T4:T502,1) -> 19 | I10: …countifs,and,or,if
B11: =ROW()-5 -> 6 | C11: 1980年代に生まれた女性の「国語」の平均点を計算しなさい。 | D11: =AVERAGEIFS(【解答】対象者!M4:M502,【解答】対象者!G4:G502,"女",【解答】対象者!U4:U502,1) -> 60.166667 | I11: …averageifs,average
B12: =ROW()-5 -> 7 | C12: ="""" & ADDRESS(ROW(I12),COLUMN(I12),4) &"""" &"セルに表示されている誕生日に該当する人の現住所を表示しなさい。（誕生日に重複はありません）" -> "I12"セルに表示されている誕生日に該当する人の現住所を表示しなさい。（誕生日に重複はありません） | D12: =VLOOKUP(H12,【解答】対象者!I:L,4,0) -> 埼玉県 | G12: 誕生日 | H12: 22920 | I12: …vlookup
B13: =ROW()-5 -> 8 | C13: 誤った年齢の人が何人いるか計算しなさい。（誕生日が正とする） | D13: =SUM(【解答】対象者!V4:V502) -> 5 | I13: …countif,datedif
B14: =ROW()-5 -> 9 | C14: 男性の英語の平均点と女性の英語の平均点を比較し、高い方の性別を表示しなさい。 | D14: =IF(AVERAGEIFS(【解答】対象者!Q4:Q502,【解答】対象者!G4:G502,"男")>AVERAGEIFS(【解答】対象者!Q4:Q502,【解答】対象者!G4:G502,"女"),"男","女") -> 男 | I14: …if,average,averageif
B15: =ROW()-5 -> 10 | C15: 30代女性で「東京都または神奈川県」にお住まいの、既婚者のうち最も「英語」が出来る人の名前を表示しなさい。 | D15: =VLOOKUP(MAX(【解答】対象者!C4:C502),【解答】対象者!C4:F502,4,0) -> かしわぎ めい | I15: …vlookup,and,or,max,if
C16: （チャレンジ問題1）今日以降で最も誕生日が近い人の名前を表示しなさい。 | D16: =VLOOKUP(MIN(【解答】対象者!B4:B502),【解答】対象者!B4:F502,5,0) -> きむら えりか
C17: （チャレンジ問題2）対象者シートのG列で「男」のセルだけ青文字にしなさい。 | I17: …【解答】対象者>ホーム＞条件付き書式＞ルールの管理＞書式ルールの範囲＞このワークシート で、確認できます。
C18: （チャレンジ問題3）東京・神奈川・千葉・埼玉の男女の人数を表にまとめ、グラフ化しなさい。 | L18: チャレンジ問題3)
M19: 男 | N19: 女
L20: 東京都 | M20: =COUNTIFS(【解答】対象者!$L:$L,$L20,【解答】対象者!$G:$G,M$19) -> 23 | N20: =COUNTIFS(【解答】対象者!$L:$L,$L20,【解答】対象者!$G:$G,N$19) -> 29
L21: 神奈川県 | M21: =COUNTIFS(【解答】対象者!$L:$L,$L21,【解答】対象者!$G:$G,M$19) -> 13 | N21: =COUNTIFS(【解答】対象者!$L:$L,$L21,【解答】対象者!$G:$G,N$19) -> 10
L22: 千葉県 | M22: =COUNTIFS(【解答】対象者!$L:$L,$L22,【解答】対象者!$G:$G,M$19) -> 8 | N22: =COUNTIFS(【解答】対象者!$L:$L,$L22,【解答】対象者!$G:$G,N$19) -> 12
L23: 埼玉県 | M23: =COUNTIFS(【解答】対象者!$L:$L,$L23,【解答】対象者!$G:$G,M$19) -> 11 | N23: =COUNTIFS(【解答】対象者!$L:$L,$L23,【解答】対象者!$G:$G,N$19) -> 15

Sheet 【解答】対象者
E2: 基本情報 | M2: テスト結果
B3: チャレンジ問題 | C3: 問10 | D3: 問10 | E3: No | F3: なまえ | G3: 性別 | H3: 年齢 | I3: 誕生日 | J3: 婚姻 | K3: 平均年収 | L3: 現住所 | M3: 国語 | N3: 数学 | O3: 理科 | P3: 社会 | Q3: 英語 | R3: 問3 | S3: 問4 | T3: 問5 | U3: 問6 | V3: 問8
B4: =DATEDIF(I4,TODAY(),"YD") -> 139 | C4: =IF(D4=1,Q4,"") | D4: =IF(AND(J4="既婚",H4>29,H4<40,G4="女",OR(L4="東京都",L4="神奈川県")),1,0) -> 0 | E4: =対象者!E4 -> 1 | F4: =対象者!F4 -> いだ としえ | G4: =対象者!G4 -> 女 | H4: =対象者!H4 -> 69 | I4: =対象者!I4 -> 19318 | J4: =対象者!J4 -> 既婚 | K4: =対象者!K4 -> 625 | L4: =対象者!L4 -> 東京都 | ... Q4: =対象者!Q4 -> 55 | R4: =IF(AND(M4>69,N4>69,O4>69,P4>69,Q4>69),1,0) -> 0 | S4: =IF(OR(N4<60,O4<60,P4<60,Q4<60,M4<60),1,0) -> 1 | T4: =IF(AND(AVERAGE(M4:Q4)>=70,AND(M4>=60,N4>=60,O4>=60,P4>=60,Q4>=60)),1,0) -> 0 | U4: =IF(AND(YEAR(I4)>1979,YEAR(I4)<1990),1,0) -> 0 | V4: =IF(DATEDIF(I4,TODAY(),"Y")=H4,0,1) -> 0
B5: =DATEDIF(I5,TODAY(),"YD") -> 319 | C5: =IF(D5=1,Q5,"") | D5: =IF(AND(J5="既婚",H5>29,H5<40,G5="女",OR(L5="東京都",L5="神奈川県")),1,0) -> 0 | E5: =対象者!E5 -> 2 | F5: =対象者!F5 -> みはし ゆうじろう | G5: =対象者!G5 -> 男 | H5: =対象者!H5 -> 41 | I5: =対象者!I5 -> 29365 | J5: =対象者!J5 -> 既婚 | K5: =対象者!K5 -> 813 | L5: =対象者!L5 -> 埼玉県 | ... Q5: =対象者!Q5 -> 69 | R5: =IF(AND(M5>69,N5>69,O5>69,P5>69,Q5>69),1,0) -> 0 | S5: =IF(OR(N5<60,O5<60,P5<60,Q5<60,M5<60),1,0) -> 1 | T5: =IF(AND(AVERAGE(M5:Q5)>=70,AND(M5>=60,N5>=60,O5>=60,P5>=60,Q5>=60)),1,0) -> 0 | U5: =IF(AND(YEAR(I5)>1979,YEAR(I5)<1990),1,0) -> 1 | V5: =IF(DATEDIF(I5,TODAY(),"Y")=H5,0,1) -> 0
B6: =DATEDIF(I6,TODAY(),"YD") -> 102 | C6: =IF(D6=1,Q6,"") | D6: =IF(AND(J6="既婚",H6>29,H6<40,G6="女",OR(L6="東京都",L6="神奈川県")),1,0) -> 0 | E6: =対象者!E6 -> 3 | F6: =対象者!F6 -> いしやま りゅうきち | G6: =対象者!G6 -> 男 | H6: =対象者!H6 -> 33 | I6: =対象者!I6 -> 32504 | J6: =対象者!J6 -> 未婚 | K6: =対象者!K6 -> 623 | L6: =対象者!L6 -> 東京都 | ... Q6: =対象者!Q6 -> 69 | R6: =IF(AND(M6>69,N6>69,O6>69,P6>69,Q6>69),1,0) -> 0 | S6: =IF(OR(N6<60,O6<60,P6<60,Q6<60,M6<60),1,0) -> 1 | T6: =IF(AND(AVERAGE(M6:Q6)>=70,AND(M6>=60,N6>=60,O6>=60,P6>=60,Q6>=60)),1,0) -> 0 | U6: =IF(AND(YEAR(I6)>1979,YEAR(I6)<1990),1,0) -> 1 | V6: =IF(DATEDIF(I6,TODAY(),"Y")=H6,0,1) -> 0
B7: =DATEDIF(I7,TODAY(),"YD") -> 326 | C7: =IF(D7=1,Q7,"") | D7: =IF(AND(J7="既婚",H7>29,H7<40,G7="女",OR(L7="東京都",L7="神奈川県")),1,0) -> 0 | E7: =対象者!E7 -> 4 | F7: =対象者!F7 -> ふるた しんいち | G7: =対象者!G7 -> 男 | H7: =対象者!H7 -> 74 | I7: =対象者!I7 -> 17305 | J7: =対象者!J7 -> 既婚 | K7: =対象者!K7 -> 348 | L7: =対象者!L7 -> 岡山県 | ... Q7: =対象者!Q7 -> 85 | R7: =IF(AND(M7>69,N7>69,O7>69,P7>69,Q7>69),1,0) -> 0 | S7: =IF(OR(N7<60,O7<60,P7<60,Q7<60,M7<60),1,0) -> 1 | T7: =IF(AND(AVERAGE(M7:Q7)>=70,AND(M7>=60,N7>=60,O7>=60,P7>=60,Q7>=60)),1,0) -> 0 | U7: =IF(AND(YEAR(I7)>1979,YEAR(I7)<1990),1,0) -> 0 | V7: =IF(DATEDIF(I7,TODAY(),"Y")=H7,0,1) -> 0
B8: =DATEDIF(I8,TODAY(),"YD") -> 159 | C8: =IF(D8=1,Q8,"") | D8: =IF(AND(J8="既婚",H8>29,H8<40,G8="女",OR(L8="東京都",L8="神奈川県")),1,0) -> 0 | E8: =対象者!E8 -> 5 | F8: =対象者!F8 -> ながしま ひろあき | G8: =対象者!G8 -> 男 | H8: =対象者!H8 -> 74 | I8: =対象者!I8 -> 17472 | J8: =対象者!J8 -> 既婚 | K8: =対象者!K8 -> 1099 | L8: =対象者!L8 -> 宮崎県 | ... Q8: =対象者!Q8 -> 25 | R8: =IF(AND(M8>69,N8>69,O8>69,P8>69,Q8>69),1,0) -> 0 | S8: =IF(OR(N8<60,O8<60,P8<60,Q8<60,M8<60),1,0) -> 1 | T8: =IF(AND(AVERAGE(M8:Q8)>=70,AND(M8>=60,N8>=60,O8>=60,P8>=60,Q8>=60)),1,0) -> 0 | U8: =IF(AND(YEAR(I8)>1979,YEAR(I8)<1990),1,0) -> 0 | V8: =IF(DATEDIF(I8,TODAY(),"Y")=H8,0,1) -> 0
B9: =DATEDIF(I9,TODAY(),"YD") -> 217 | C9: =IF(D9=1,Q9,"") | D9: =IF(AND(J9="既婚",H9>29,H9<40,G9="女",OR(L9="東京都",L9="神奈川県")),1,0) -> 0 | E9: =対象者!E9 -> 6 | F9: =対象者!F9 -> ほんやま はなこ | G9: =対象者!G9 -> 女 | H9: =対象者!H9 -> 80 | I9: =対象者!I9 -> 15222 | J9: =対象者!J9 -> 既婚 | K9: =対象者!K9 -> 715 | L9: =対象者!L9 -> 島根県 | ... Q9: =対象者!Q9 -> 39 | R9: =IF(AND(M9>69,N9>69,O9>69,P9>69,Q9>69),1,0) -> 0 | S9: =IF(OR(N9<60,O9<60,P9<60,Q9<60,M9<60),1,0) -> 1 | T9: =IF(AND(AVERAGE(M9:Q9)>=70,AND(M9>=60,N9>=60,O9>=60,P9>=60,Q9>=60)),1,0) -> 0 | U9: =IF(AND(YEAR(I9)>1979,YEAR(I9)<1990),1,0) -> 0 | V9: =IF(DATEDIF(I9,TODAY(),"Y")=H9,0,1) -> 0
B10: =DATEDIF(I10,TODAY(),"YD") -> 54 | C10: =IF(D10=1,Q10,"") | D10: =IF(AND(J10="既婚",H10>29,H10<40,G10="女",OR(L10="東京都",L10="神奈川県")),1,0) -> 0 | E10: =対象者!E10 -> 7 | F10: =対象者!F10 -> ありた ゆういち | G10: =対象者!G10 -> 男 | H10: =対象者!H10 -> 85 | I10: =対象者!I10 -> 13559 | J10: =対象者!J10 -> 既婚 | K10: =対象者!K10 -> 587 | L10: =対象者!L10 -> 広島県 | ... Q10: =対象者!Q10 -> 32 | R10: =IF(AND(M10>69,N10>69,O10>69,P10>69,Q10>69),1,0) -> 0 | S10: =IF(OR(N10<60,O10<60,P10<60,Q10<60,M10<60),1,0) -> 1 | T10: =IF(AND(AVERAGE(M10:Q10)>=70,AND(M10>=60,N10>=60,O10>=60,P10>=60,Q10>=60)),1,0) -> 0 | U10: =IF(AND(YEAR(I10)>1979,YEAR(I10)<1990),1,0) -> 0 | V10: =IF(DATEDIF(I10,TODAY(),"Y")=H10,0,1) -> 0
B11: =DATEDIF(I11,TODAY(),"YD") -> 222 | C11: =IF(D11=1,Q11,"") | D11: =IF(AND(J11="既婚",H11>29,H11<40,G11="女",OR(L11="東京都",L11="神奈川県")),1,0) -> 0 | E11: =対象者!E11 -> 8 | F11: =対象者!F11 -> おいかわ いくこ | G11: =対象者!G11 -> 女 | H11: =対象者!H11 -> 40 | I11: =対象者!I11 -> 29827 | J11: =対象者!J11 -> 既婚 | K11: =対象者!K11 -> 656 | L11: =対象者!L11 -> 千葉県 | ... Q11: =対象者!Q11 -> 46 | R11: =IF(AND(M11>69,N11>69,O11>69,P11>69,Q11>69),1,0) -> 0 | S11: =IF(OR(N11<60,O11<60,P11<60,Q11<60,M11<60),1,0) -> 1 | T11: =IF(AND(AVERAGE(M11:Q11)>=70,AND(M11>=60,N11>=60,O11>=60,P11>=60,Q11>=60)),1,0) -> 0 | U11: =IF(AND(YEAR(I11)>1979,YEAR(I11)<1990),1,0) -> 1 | V11: =IF(DATEDIF(I11,TODAY(),"Y")=H11,0,1) -> 0
B12: =DATEDIF(I12,TODAY(),"YD") -> 10 | C12: =IF(D12=1,Q12,"") | D12: =IF(AND(J12="既婚",H12>29,H12<40,G12="女",OR(L12="東京都",L12="神奈川県")),1,0) -> 0 | E12: =対象者!E12 -> 9 | F12: =対象者!F12 -> いしはら まさひこ | G12: =対象者!G12 -> 男 | H12: =対象者!H12 -> 26 | I12: =対象者!I12 -> 35153 | J12: =対象者!J12 -> 未婚 | K12: =対象者!K12 -> 484 | L12: =対象者!L12 -> 兵庫県 | ... Q12: =対象者!Q12 -> 90 | R12: =IF(AND(M12>69,N12>69,O12>69,P12>69,Q12>69),1,0) -> 0 | S12: =IF(OR(N12<60,O12<60,P12<60,Q12<60,M12<60),1,0) -> 1 | T12: =IF(AND(AVERAGE(M12:Q12)>=70,AND(M12>=60,N12>=60,O12>=60,P12>=60,Q12>=60)),1,0) -> 0 | U12: =IF(AND(YEAR(I12)>1979,YEAR(I12)<1990),1,0) -> 0 | V12: =IF(DATEDIF(I12,TODAY(),"Y")=H12,0,1) -> 0
B13: =DATEDIF(I13,TODAY(),"YD") -> 155 | C13: =IF(D13=1,Q13,"") | D13: =IF(AND(J13="既婚",H13>29,H13<40,G13="女",OR(L13="東京都",L13="神奈川県")),1,0) -> 0 | E13: =対象者!E13 -> 10 | F13: =対象者!F13 -> たきぐち けん | G13: =対象者!G13 -> 男 | H13: =対象者!H13 -> 81 | I13: =対象者!I13 -> 14919 | J13: =対象者!J13 -> 既婚 | K13: =対象者!K13 -> 753 | L13: =対象者!L13 -> 北海道 | ... Q13: =対象者!Q13 -> 82 | R13: =IF(AND(M13>69,N13>69,O13>69,P13>69,Q13>69),1,0) -> 0 | S13: =IF(OR(N13<60,O13<60,P13<60,Q13<60,M13<60),1,0) -> 1 | T13: =IF(AND(AVERAGE(M13:Q13)>=70,AND(M13>=60,N13>=60,O13>=60,P13>=60,Q13>=60)),1,0) -> 0 | U13: =IF(AND(YEAR(I13)>1979,YEAR(I13)<1990),1,0) -> 0 | V13: =IF(DATEDIF(I13,TODAY(),"Y")=H13,0,1) -> 0
B14: =DATEDIF(I14,TODAY(),"YD") -> 344 | C14: =IF(D14=1,Q14,"") | D14: =IF(AND(J14="既婚",H14>29,H14<40,G14="女",OR(L14="東京都",L14="神奈川県")),1,0) -> 0 | E14: =対象者!E14 -> 11 | F14: =対象者!F14 -> あい あみ | G14: =対象者!G14 -> 女 | H14: =対象者!H14 -> 64 | I14: =対象者!I14 -> 20939 | J14: =対象者!J14 -> 既婚 | K14: =対象者!K14 -> 504 | L14: =対象者!L14 -> 愛媛県 | ... Q14: =対象者!Q14 -> 65 | R14: =IF(AND(M14>69,N14>69,O14>69,P14>69,Q14>69),1,0) -> 0 | S14: =IF(OR(N14<60,O14<60,P14<60,Q14<60,M14<60),1,0) -> 1 | T14: =IF(AND(AVERAGE(M14:Q14)>=70,AND(M14>=60,N14>=60,O14>=60,P14>=60,Q14>=60)),1,0) -> 0 | U14: =IF(AND(YEAR(I14)>1979,YEAR(I14)<1990),1,0) -> 0 | V14: =IF(DATEDIF(I14,TODAY(),"Y")=H14,0,1) -> 0
B15: =DATEDIF(I15,TODAY(),"YD") -> 263 | C15: =IF(D15=1,Q15,"") | D15: =IF(AND(J15="既婚",H15>29,H15<40,G15="女",OR(L15="東京都",L15="神奈川県")),1,0) -> 0 | E15: =対象者!E15 -> 12 | F15: =対象者!F15 -> よこかわ ひとり | G15: =対象者!G15 -> 男 | H15: =対象者!H15 -> 27 | I15: =対象者!I15 -> 34534 | J15: =対象者!J15 -> 未婚 | K15: =対象者!K15 -> 721 | L15: =対象者!L15 -> 愛知県 | ... Q15: =対象者!Q15 -> 63 | R15: =IF(AND(M15>69,N15>69,O15>69,P15>69,Q15>69),1,0) -> 0 | S15: =IF(OR(N15<60,O15<60,P15<60,Q15<60,M15<60),1,0) -> 1 | T15: =IF(AND(AVERAGE(M15:Q15)>=70,AND(M15>=60,N15>=60,O15>=60,P15>=60,Q15>=60)),1,0) -> 0 | U15: =IF(AND(YEAR(I15)>1979,YEAR(I15)<1990),1,0) -> 0 | V15: =IF(DATEDIF(I15,TODAY(),"Y")=H15,0,1) -> 0
... B502: =DATEDIF(I502,TODAY(),"YD") -> 311 | C502: =IF(D502=1,Q502,"") | D502: =IF(AND(J502="既婚",H502>29,H502<40,G502="女",OR(L502="東京都",L502="神奈川県")),1,0) -> 0 | E502: =対象者!E502 -> 499 | F502: =対象者!F502 -> うちの はるか | G502: =対象者!G502 -> 女 | H502: =対象者!H502 -> 61 | I502: =対象者!I502 -> 22068 | J502: =対象者!J502 -> 既婚 | K502: =対象者!K502 -> 495 | L502: =対象者!L502 -> 青森県 | ... Q502: =対象者!Q502 -> 60 | R502: =IF(AND(M502>69,N502>69,O502>69,P502>69,Q502>69),1,0) -> 0 | S502: =IF(OR(N502<60,O502<60,P502<60,Q502<60,M502<60),1,0) -> 1 | T502: =IF(AND(AVERAGE(M502:Q502)>=70,AND(M502>=60,N502>=60,O502>=60,P502>=60,Q502>=60)),1,0) -> 0 | U502: =IF(AND(YEAR(I502)>1979,YEAR(I502)<1990),1,0) -> 0 | V502: =IF(DATEDIF(I502,TODAY(),"Y")=H502,0,1) -> 0
