Workbook

Sheet 問題
B2: =RIGHT(CELL("filename",A1),LEN(CELL("filename",A1))-FIND("]", CELL("filename",A1))) -> 問題
C4: 下記は「対象者」シートに対する問題です。 | I4: Hint
B5: No | C5: 問い | D5: 回答欄
B6: 1 | C6: 男性の人数を計算しなさい。 | I6: …countif
B7: 2 | C7: 男性の既婚率を計算しなさい。 | I7: …countif,countifs
B8: 3 | C8: 全ての科目（5科目）で70点以上の結果を出している人数を計算しなさい。 | I8: …countifs,and
B9: 4 | C9: 5科目中いずれかの科目で60点未満の結果を出している人数を計算しなさい。 | I9: …countifs,or
B10: 5 | C10: 5科目の平均点が70点以上で、1科目も60点未満の科目がない結果を出している人数を計算しなさい。 | I10: …countifs,and,or,if
B11: 6 | C11: 1980年代に生まれた女性の「国語」の平均点を計算しなさい。 | I11: …averageifs,average
B12: 7 | C12: "I12"セルに表示されている誕生日に該当する人の現住所を表示しなさい。（誕生日に重複はありません） | G12: 誕生日 | H12: 22920 | I12: …vlookup
B13: 8 | C13: 誤った年齢の人が何人いるか計算しなさい。（誕生日が正とする） | I13: …countif,datedif
B14: 9 | C14: 男性の英語の平均点と女性の英語の平均点を比較し、高い方の性別を表示しなさい。 | I14: …if,average,averageif
B15: 10 | C15: 30代女性で「東京都または神奈川県」にお住まいの、既婚者のうち最も「英語」が出来る人の名前を表示しなさい。 | I15: …vlookup,and,or,max,if
C16: （チャレンジ問題1）今日以降で最も誕生日が近い人の名前を表示しなさい。
C17: （チャレンジ問題2）対象者シートのG列で「男」のセルだけ青文字にしなさい。
C18: （チャレンジ問題3）東京・神奈川・千葉・埼玉の男女の人数を表にまとめ、グラフ化しなさい。

Sheet 対象者
E2: 基本情報 | M2: テスト結果
E3: No | F3: なまえ | G3: 性別 | H3: 年齢 | I3: 誕生日 | J3: 婚姻 | K3: 年収（万円） | L3: 現住所 | M3: 国語 | N3: 数学 | O3: 理科 | P3: 社会 | Q3: 英語
E4: =ROW()-3 -> 1 | F4: いだ としえ | G4: 女 | H4: =DATEDIF(I4,TODAY(),"Y") -> 69 | I4: 19318 | J4: 既婚 | K4: 625 | L4: 東京都 | M4: 98 | N4: 18 | O4: 85 | P4: 87 | Q4: 55
E5: =ROW()-3 -> 2 | F5: みはし ゆうじろう | G5: 男 | H5: =DATEDIF(I5,TODAY(),"Y") -> 41 | I5: 29365 | J5: 既婚 | K5: 813 | L5: 埼玉県 | M5: 71 | N5: 89 | O5: 26 | P5: 83 | Q5: 69
E6: =ROW()-3 -> 3 | F6: いしやま りゅうきち | G6: 男 | H6: =DATEDIF(I6,TODAY(),"Y") -> 33 | I6: 32504 | J6: 未婚 | K6: 623 | L6: 東京都 | M6: 25 | N6: 33 | O6: 60 | P6: 44 | Q6: 69
E7: =ROW()-3 -> 4 | F7: ふるた しんいち | G7: 男 | H7: =DATEDIF(I7,TODAY(),"Y") -> 74 | I7: 17305 | J7: 既婚 | K7: 348 | L7: 岡山県 | M7: 23 | N7: 43 | O7: 56 | P7: 42 | Q7: 85
E8: =ROW()-3 -> 5 | F8: ながしま ひろあき | G8: 男 | H8: =DATEDIF(I8,TODAY(),"Y") -> 74 | I8: 17472 | J8: 既婚 | K8: 1099 | L8: 宮崎県 | M8: 40 | N8: 56 | O8: 97 | P8: 19 | Q8: 25
E9: =ROW()-3 -> 6 | F9: ほんやま はなこ | G9: 女 | H9: =DATEDIF(I9,TODAY(),"Y") -> 80 | I9: 15222 | J9: 既婚 | K9: 715 | L9: 島根県 | M9: 52 | N9: 60 | O9: 32 | P9: 62 | Q9: 39
E10: =ROW()-3 -> 7 | F10: ありた ゆういち | G10: 男 | H10: =DATEDIF(I10,TODAY(),"Y") -> 85 | I10: 13559 | J10: 既婚 | K10: 587 | L10: 広島県 | M10: 70 | N10: 60 | O10: 33 | P10: 70 | Q10: 32
E11: =ROW()-3 -> 8 | F11: おいかわ いくこ | G11: 女 | H11: =DATEDIF(I11,TODAY(),"Y") -> 40 | I11: 29827 | J11: 既婚 | K11: 656 | L11: 千葉県 | M11: 61 | N11: 56 | O11: 37 | P11: 68 | Q11: 46
E12: =ROW()-3 -> 9 | F12: いしはら まさひこ | G12: 男 | H12: =DATEDIF(I12,TODAY(),"Y") -> 26 | I12: 35153 | J12: 未婚 | K12: 484 | L12: 兵庫県 | M12: 88 | N12: 57 | O12: 56 | P12: 54 | Q12: 90
E13: =ROW()-3 -> 10 | F13: たきぐち けん | G13: 男 | H13: =DATEDIF(I13,TODAY(),"Y") -> 81 | I13: 14919 | J13: 既婚 | K13: 753 | L13: 北海道 | M13: 68 | N13: 78 | O13: 44 | P13: 54 | Q13: 82
E14: =ROW()-3 -> 11 | F14: あい あみ | G14: 女 | H14: =DATEDIF(I14,TODAY(),"Y") -> 64 | I14: 20939 | J14: 既婚 | K14: 504 | L14: 愛媛県 | M14: 53 | N14: 47 | O14: 31 | P14: 46 | Q14: 65
E15: =ROW()-3 -> 12 | F15: よこかわ ひとり | G15: 男 | H15: =DATEDIF(I15,TODAY(),"Y") -> 27 | I15: 34534 | J15: 未婚 | K15: 721 | L15: 愛知県 | M15: 58 | N15: 54 | O15: 78 | P15: 79 | Q15: 63
... E24: =ROW()-3 -> 21 | F24: とよた けいこ | G24: 女 | H24: =DATEDIF(I24,TODAY(),"Y") -> 38 | I24: 30494 | J24: 既婚 | K24: 390 | L24: 栃木県 | M24: 77 | N24: 56 | O24: 46 | P24: 53 | Q24: 99
E25: =ROW()-3 -> 22 | F25: ふるや ほうし | G25: 男 | H25: 41 | I25: 28598 | J25: 既婚 | K25: 573 | L25: 福島県 | M25: 26 | N25: 81 | O25: 38 | P25: 63 | Q25: 82
E26: =ROW()-3 -> 23 | F26: ながやま さとみ | G26: 女 | H26: =DATEDIF(I26,TODAY(),"Y") -> 56 | I26: 23984 | J26: 既婚 | K26: 413 | L26: 神奈川県 | M26: 70 | N26: 91 | O26: 75 | P26: 63 | Q26: 67
E27: =ROW()-3 -> 24 | F27: みやわき さとみ | G27: 女 | H27: =DATEDIF(I27,TODAY(),"Y") -> 47 | I27: 27338 | J27: 既婚 | K27: 403 | L27: 石川県 | M27: 100 | N27: 90 | O27: 48 | P27: 33 | Q27: 49
E28: =ROW()-3 -> 25 | F28: はしの ろくろう | G28: 男 | H28: =DATEDIF(I28,TODAY(),"Y") -> 52 | I28: 25480 | J28: 既婚 | K28: 762 | L28: 愛知県 | M28: 91 | N28: 87 | O28: 40 | P28: 34 | Q28: 81
E29: =ROW()-3 -> 26 | F29: やなぎはら のりこ | G29: 女 | H29: =DATEDIF(I29,TODAY(),"Y") -> 53 | I29: 25096 | J29: 既婚 | K29: 574 | L29: 鹿児島県 | M29: 27 | N29: 82 | O29: 88 | P29: 36 | Q29: 74
E30: =ROW()-3 -> 27 | F30: やすなが みつる | G30: 男 | H30: =DATEDIF(I30,TODAY(),"Y") -> 54 | I30: 24631 | J30: 既婚 | K30: 321 | L30: 神奈川県 | M30: 90 | N30: 66 | O30: 43 | P30: 60 | Q30: 96
E31: =ROW()-3 -> 28 | F31: やまの じろーらも | G31: 男 | H31: =DATEDIF(I31,TODAY(),"Y") -> 77 | I31: 16483 | J31: 既婚 | K31: 723 | L31: 愛知県 | M31: 22 | N31: 67 | O31: 67 | P31: 29 | Q31: 51
E32: =ROW()-3 -> 29 | F32: ねもと ももこ | G32: 女 | H32: =DATEDIF(I32,TODAY(),"Y") -> 82 | I32: 14624 | J32: 既婚 | K32: 860 | L32: 岐阜県 | M32: 29 | N32: 67 | O32: 39 | P32: 49 | Q32: 99
E33: =ROW()-3 -> 30 | F33: たなか みあ | G33: 女 | H33: =DATEDIF(I33,TODAY(),"Y") -> 86 | I33: 13120 | J33: 既婚 | K33: 779 | L33: 神奈川県 | M33: 32 | N33: 47 | O33: 48 | P33: 32 | Q33: 74
E34: =ROW()-3 -> 31 | F34: まつしま あさひ | G34: 女 | H34: =DATEDIF(I34,TODAY(),"Y") -> 29 | I34: 33948 | J34: 未婚 | K34: 894 | L34: 宮崎県 | M34: 28 | N34: 37 | O34: 79 | P34: 62 | Q34: 82
E35: =ROW()-3 -> 32 | F35: てらもと かんじ | G35: 男 | H35: =DATEDIF(I35,TODAY(),"Y") -> 51 | I35: 25948 | J35: 既婚 | K35: 376 | L35: 愛知県 | M35: 69 | N35: 37 | O35: 76 | P35: 94 | Q35: 81
E36: =ROW()-3 -> 33 | F36: かつらやま ふみや | G36: 男 | H36: =DATEDIF(I36,TODAY(),"Y") -> 82 | I36: 14673 | J36: 既婚 | K36: 732 | L36: 愛知県 | M36: 18 | N36: 49 | O36: 76 | P36: 93 | Q36: 31
E37: =ROW()-3 -> 34 | F37: ひろせ まもる | G37: 男 | H37: =DATEDIF(I37,TODAY(),"Y") -> 28 | I37: 34413 | J37: 未婚 | K37: 1018 | L37: 宮城県 | M37: 82 | N37: 53 | O37: 54 | P37: 92 | Q37: 18
... E151: =ROW()-3 -> 148 | F151: はたやま すばる | G151: 男 | H151: =DATEDIF(I151,TODAY(),"Y") -> 84 | I151: 13792 | J151: 既婚 | K151: 1007 | L151: 兵庫県 | M151: 58 | N151: 67 | O151: 59 | P151: 60 | Q151: 81
E152: =ROW()-3 -> 149 | F152: きむら えりか | G152: 女 | H152: =DATEDIF(I152,TODAY(),"Y") -> 0 | I152: =TODAY() -> 44659 | J152: 既婚 | K152: 540 | L152: 埼玉県 | M152: 20 | N152: 27 | O152: 35 | P152: 46 | Q152: 52
E153: =ROW()-3 -> 150 | F153: すみ れな | G153: 女 | H153: =DATEDIF(I153,TODAY(),"Y") -> 51 | I153: 25837 | J153: 既婚 | K153: 779 | L153: 三重県 | M153: 63 | N153: 34 | O153: 19 | P153: 93 | Q153: 45
E154: =ROW()-3 -> 151 | F154: いけうち なつみ | G154: 女 | H154: =DATEDIF(I154,TODAY(),"Y") -> 41 | I154: 29428 | J154: 未婚 | K154: 1032 | L154: 高知県 | M154: 61 | N154: 84 | O154: 72 | P154: 39 | Q154: 98
E155: =ROW()-3 -> 152 | F155: くらもち ながとし | G155: 男 | H155: =DATEDIF(I155,TODAY(),"Y") -> 25 | I155: 35235 | J155: 未婚 | K155: 760 | L155: 群馬県 | M155: 44 | N155: 69 | O155: 89 | P155: 63 | Q155: 84
E156: =ROW()-3 -> 153 | F156: むらせ つとむ | G156: 男 | H156: =DATEDIF(I156,TODAY(),"Y") -> 61 | I156: 22070 | J156: 既婚 | K156: 819 | L156: 長野県 | M156: 73 | N156: 20 | O156: 44 | P156: 51 | Q156: 45
E157: =ROW()-3 -> 154 | F157: きくち あきよし | G157: 男 | H157: =DATEDIF(I157,TODAY(),"Y") -> 59 | I157: 23073 | J157: 既婚 | K157: 1089 | L157: 群馬県 | M157: 93 | N157: 67 | O157: 88 | P157: 65 | Q157: 81
E158: =ROW()-3 -> 155 | F158: ふるや しんご | G158: 男 | H158: =DATEDIF(I158,TODAY(),"Y") -> 31 | I158: 33146 | J158: 既婚 | K158: 442 | L158: 東京都 | M158: 33 | N158: 61 | O158: 36 | P158: 98 | Q158: 61
E159: =ROW()-3 -> 156 | F159: いまむら ようすけ | G159: 男 | H159: =DATEDIF(I159,TODAY(),"Y") -> 34 | I159: 31883 | J159: 既婚 | K159: 339 | L159: 福岡県 | M159: 65 | N159: 20 | O159: 83 | P159: 23 | Q159: 30
E160: =ROW()-3 -> 157 | F160: あべ かおる | G160: 男 | H160: =DATEDIF(I160,TODAY(),"Y") -> 70 | I160: 18854 | J160: 既婚 | K160: 541 | L160: 広島県 | M160: 49 | N160: 84 | O160: 42 | P160: 30 | Q160: 82
E161: =ROW()-3 -> 158 | F161: ひろすえ そうた | G161: 男 | H161: =DATEDIF(I161,TODAY(),"Y") -> 45 | I161: 28107 | J161: 既婚 | K161: 943 | L161: 佐賀県 | M161: 75 | N161: 66 | O161: 63 | P161: 57 | Q161: 94
E162: =ROW()-3 -> 159 | F162: おぎ よしき | G162: 男 | H162: =DATEDIF(I162,TODAY(),"Y") -> 81 | I162: 14783 | J162: 既婚 | K162: 1011 | L162: 愛知県 | M162: 33 | N162: 59 | O162: 32 | P162: 57 | Q162: 18
E163: =ROW()-3 -> 160 | F163: あおい りお | G163: 女 | H163: =DATEDIF(I163,TODAY(),"Y") -> 62 | I163: 21688 | J163: 既婚 | K163: 787 | L163: 京都府 | M163: 44 | N163: 42 | O163: 40 | P163: 32 | Q163: 60
E164: =ROW()-3 -> 161 | F164: こうべ みわこ | G164: 女 | H164: =DATEDIF(I164,TODAY(),"Y") -> 62 | I164: 21673 | J164: 既婚 | K164: 933 | L164: 石川県 | M164: 80 | N164: 70 | O164: 31 | P164: 63 | Q164: 78
... E194: =ROW()-3 -> 191 | F194: かまた れいこ | G194: 女 | H194: =DATEDIF(I194,TODAY(),"Y") -> 67 | I194: 20183 | J194: 既婚 | K194: 556 | L194: 新潟県 | M194: 34 | N194: 95 | O194: 90 | P194: 74 | Q194: 88
E195: =ROW()-3 -> 192 | F195: さくらだ しゅんじ | G195: 男 | H195: =DATEDIF(I195,TODAY(),"Y") -> 0 | I195: =TODAY() -> 44659 | J195: 既婚 | K195: 740 | L195: 長崎県 | M195: 23 | N195: 42 | O195: 48 | P195: 95 | Q195: 89
E196: =ROW()-3 -> 193 | F196: ふくはら ようこ | G196: 女 | H196: =DATEDIF(I196,TODAY(),"Y") -> 58 | I196: 23471 | J196: 既婚 | K196: 644 | L196: 広島県 | M196: 28 | N196: 37 | O196: 67 | P196: 67 | Q196: 75
E197: =ROW()-3 -> 194 | F197: くわた あやこ | G197: 女 | H197: =DATEDIF(I197,TODAY(),"Y") -> 81 | I197: 14716 | J197: 既婚 | K197: 1059 | L197: 富山県 | M197: 25 | N197: 100 | O197: 92 | P197: 59 | Q197: 81
E198: =ROW()-3 -> 195 | F198: いたがき ともか | G198: 女 | H198: =DATEDIF(I198,TODAY(),"Y") -> 31 | I198: 33014 | J198: 未婚 | K198: 938 | L198: 沖縄県 | M198: 41 | N198: 83 | O198: 46 | P198: 88 | Q198: 40
E199: =ROW()-3 -> 196 | F199: やまのうち のりこ | G199: 女 | H199: =DATEDIF(I199,TODAY(),"Y") -> 80 | I199: 15202 | J199: 既婚 | K199: 950 | L199: 宮城県 | M199: 82 | N199: 32 | O199: 81 | P199: 83 | Q199: 78
E200: =ROW()-3 -> 197 | F200: おぐち ほうし | G200: 男 | H200: =DATEDIF(I200,TODAY(),"Y") -> 39 | I200: 30376 | J200: 既婚 | K200: 842 | L200: 島根県 | M200: 70 | N200: 46 | O200: 68 | P200: 29 | Q200: 68
E201: =ROW()-3 -> 198 | F201: むとう なつみ | G201: 女 | H201: =DATEDIF(I201,TODAY(),"Y") -> 27 | I201: 34494 | J201: 未婚 | K201: 1072 | L201: 埼玉県 | M201: 76 | N201: 20 | O201: 61 | P201: 43 | Q201: 24
E202: =ROW()-3 -> 199 | F202: かたぎり ゆうた | G202: 男 | H202: =DATEDIF(I202,TODAY(),"Y") -> 29 | I202: 34001 | J202: 未婚 | K202: 898 | L202: 青森県 | M202: 70 | N202: 66 | O202: 88 | P202: 95 | Q202: 90
E203: =ROW()-3 -> 200 | F203: あかしや かおる | G203: 男 | H203: =DATEDIF(I203,TODAY(),"Y") -> 27 | I203: 34536 | J203: 未婚 | K203: 686 | L203: 青森県 | M203: 28 | N203: 68 | O203: 72 | P203: 66 | Q203: 61
E204: =ROW()-3 -> 201 | F204: ひらやま かろく | G204: 男 | H204: =DATEDIF(I204,TODAY(),"Y") -> 62 | I204: 21921 | J204: 既婚 | K204: 846 | L204: 島根県 | M204: 98 | N204: 74 | O204: 20 | P204: 34 | Q204: 91
E205: =ROW()-3 -> 202 | F205: つつい りょう | G205: 男 | H205: =DATEDIF(I205,TODAY(),"Y") -> 34 | I205: 32002 | J205: 既婚 | K205: 493 | L205: 千葉県 | M205: 65 | N205: 40 | O205: 46 | P205: 77 | Q205: 80
E206: =ROW()-3 -> 203 | F206: やまの じろーらも | G206: 男 | H206: =DATEDIF(I206,TODAY(),"Y") -> 61 | I206: 22158 | J206: 既婚 | K206: 482 | L206: 茨城県 | M206: 90 | N206: 48 | O206: 20 | P206: 34 | Q206: 86
E207: =ROW()-3 -> 204 | F207: おのだ ちせ | G207: 女 | H207: =DATEDIF(I207,TODAY(),"Y") -> 54 | I207: 24702 | J207: 既婚 | K207: 322 | L207: 広島県 | M207: 34 | N207: 39 | O207: 69 | P207: 42 | Q207: 31
... E263: =ROW()-3 -> 260 | F263: まつもと さやか | G263: 女 | H263: =DATEDIF(I263,TODAY(),"Y") -> 36 | I263: 31253 | J263: 既婚 | K263: 1007 | L263: 北海道 | M263: 20 | N263: 96 | O263: 19 | P263: 57 | Q263: 64
E264: =ROW()-3 -> 261 | F264: ほんむら たすく | G264: 男 | H264: 79 | I264: 15306 | J264: 既婚 | K264: 836 | L264: 兵庫県 | M264: 72 | N264: 65 | O264: 70 | P264: 53 | Q264: 70
E265: =ROW()-3 -> 262 | F265: おだじま ゆうこ | G265: 女 | H265: =DATEDIF(I265,TODAY(),"Y") -> 28 | I265: 34149 | J265: 未婚 | K265: 419 | L265: 兵庫県 | M265: 28 | N265: 99 | O265: 87 | P265: 81 | Q265: 58
E266: =ROW()-3 -> 263 | F266: にしむら じん | G266: 男 | H266: =DATEDIF(I266,TODAY(),"Y") -> 45 | I266: 28186 | J266: 既婚 | K266: 615 | L266: 神奈川県 | M266: 59 | N266: 93 | O266: 87 | P266: 56 | Q266: 22
E267: =ROW()-3 -> 264 | F267: あおき まさし | G267: 男 | H267: =DATEDIF(I267,TODAY(),"Y") -> 41 | I267: 29662 | J267: 既婚 | K267: 805 | L267: 山口県 | M267: 71 | N267: 48 | O267: 87 | P267: 30 | Q267: 82
E268: =ROW()-3 -> 265 | F268: えびはら りこ | G268: 女 | H268: =DATEDIF(I268,TODAY(),"Y") -> 83 | I268: 14155 | J268: 既婚 | K268: 655 | L268: 神奈川県 | M268: 24 | N268: 26 | O268: 70 | P268: 39 | Q268: 93
E269: =ROW()-3 -> 266 | F269: やまのうち けいじ | G269: 男 | H269: =DATEDIF(I269,TODAY(),"Y") -> 28 | I269: 34144 | J269: 未婚 | K269: 606 | L269: 栃木県 | M269: 78 | N269: 70 | O269: 77 | P269: 18 | Q269: 42
E270: =ROW()-3 -> 267 | F270: はま ゆういち | G270: 男 | H270: =DATEDIF(I270,TODAY(),"Y") -> 82 | I270: 14505 | J270: 既婚 | K270: 908 | L270: 静岡県 | M270: 21 | N270: 19 | O270: 36 | P270: 80 | Q270: 87
E271: =ROW()-3 -> 268 | F271: おおや あい | G271: 女 | H271: =DATEDIF(I271,TODAY(),"Y") -> 37 | I271: 30987 | J271: 既婚 | K271: 466 | L271: 東京都 | M271: 25 | N271: 47 | O271: 19 | P271: 78 | Q271: 80
E272: =ROW()-3 -> 269 | F272: まつざわ すずか | G272: 女 | H272: =DATEDIF(I272,TODAY(),"Y") -> 42 | I272: 29246 | J272: 既婚 | K272: 853 | L272: 愛知県 | M272: 23 | N272: 77 | O272: 73 | P272: 100 | Q272: 64
E273: =ROW()-3 -> 270 | F273: あんどう さんせい | G273: 男 | H273: =DATEDIF(I273,TODAY(),"Y") -> 52 | I273: 25484 | J273: 既婚 | K273: 1081 | L273: 東京都 | M273: 34 | N273: 33 | O273: 68 | P273: 92 | Q273: 55
E274: =ROW()-3 -> 271 | F274: ほそかわ やすふみ | G274: 男 | H274: =DATEDIF(I274,TODAY(),"Y") -> 56 | I274: 24108 | J274: 既婚 | K274: 457 | L274: 静岡県 | M274: 54 | N274: 57 | O274: 52 | P274: 75 | Q274: 47
E275: =ROW()-3 -> 272 | F275: ひらた しげき | G275: 男 | H275: =DATEDIF(I275,TODAY(),"Y") -> 47 | I275: 27210 | J275: 未婚 | K275: 682 | L275: 東京都 | M275: 53 | N275: 84 | O275: 50 | P275: 95 | Q275: 36
E276: =ROW()-3 -> 273 | F276: こひなた しゅんじ | G276: 男 | H276: =DATEDIF(I276,TODAY(),"Y") -> 44 | I276: 28373 | J276: 既婚 | K276: 828 | L276: 長野県 | M276: 52 | N276: 84 | O276: 55 | P276: 71 | Q276: 23
... E319: =ROW()-3 -> 316 | F319: こだま たすく | G319: 男 | H319: =DATEDIF(I319,TODAY(),"Y") -> 47 | I319: 27245 | J319: 既婚 | K319: 1058 | L319: 大阪府 | M319: 71 | N319: 51 | O319: 22 | P319: 93 | Q319: 97
E320: =ROW()-3 -> 317 | F320: かしわぎ めい | G320: 女 | H320: 39 | I320: 31687 | J320: 既婚 | K320: 1036 | L320: 神奈川県 | M320: 82 | N320: 96 | O320: 80 | P320: 96 | Q320: 81
E321: =ROW()-3 -> 318 | F321: たかはし だいごろう | G321: 男 | H321: =DATEDIF(I321,TODAY(),"Y") -> 85 | I321: 13340 | J321: 既婚 | K321: 879 | L321: 長崎県 | M321: 91 | N321: 90 | O321: 86 | P321: 79 | Q321: 99
E322: =ROW()-3 -> 319 | F322: いわた ゆきや | G322: 男 | H322: =DATEDIF(I322,TODAY(),"Y") -> 62 | I322: 21740 | J322: 既婚 | K322: 731 | L322: 京都府 | M322: 36 | N322: 45 | O322: 39 | P322: 50 | Q322: 63
E323: =ROW()-3 -> 320 | F323: やました ちえみ | G323: 女 | H323: =DATEDIF(I323,TODAY(),"Y") -> 35 | I323: 31829 | J323: 未婚 | K323: 661 | L323: 埼玉県 | M323: 93 | N323: 53 | O323: 63 | P323: 80 | Q323: 94
E324: =ROW()-3 -> 321 | F324: はま しほり | G324: 女 | H324: =DATEDIF(I324,TODAY(),"Y") -> 37 | I324: 30854 | J324: 既婚 | K324: 765 | L324: 滋賀県 | M324: 22 | N324: 50 | O324: 39 | P324: 38 | Q324: 85
E325: =ROW()-3 -> 322 | F325: あいはら みゅう | G325: 女 | H325: =DATEDIF(I325,TODAY(),"Y") -> 48 | I325: 26982 | J325: 既婚 | K325: 1065 | L325: 埼玉県 | M325: 46 | N325: 68 | O325: 31 | P325: 77 | Q325: 96
E326: =ROW()-3 -> 323 | F326: いしくら あきら | G326: 男 | H326: =DATEDIF(I326,TODAY(),"Y") -> 82 | I326: 14560 | J326: 既婚 | K326: 1034 | L326: 愛知県 | M326: 89 | N326: 47 | O326: 56 | P326: 68 | Q326: 23
E327: =ROW()-3 -> 324 | F327: よしざき みあ | G327: 女 | H327: =DATEDIF(I327,TODAY(),"Y") -> 63 | I327: 21593 | J327: 既婚 | K327: 715 | L327: 東京都 | M327: 91 | N327: 83 | O327: 42 | P327: 61 | Q327: 63
E328: =ROW()-3 -> 325 | F328: いしくら りほ | G328: 女 | H328: =DATEDIF(I328,TODAY(),"Y") -> 59 | I328: 23085 | J328: 既婚 | K328: 314 | L328: 長野県 | M328: 19 | N328: 71 | O328: 18 | P328: 22 | Q328: 28
E329: =ROW()-3 -> 326 | F329: はしづめ あやめ | G329: 女 | H329: =DATEDIF(I329,TODAY(),"Y") -> 43 | I329: 28758 | J329: 既婚 | K329: 737 | L329: 長野県 | M329: 58 | N329: 19 | O329: 69 | P329: 60 | Q329: 86
E330: =ROW()-3 -> 327 | F330: なりた こうじ | G330: 男 | H330: =DATEDIF(I330,TODAY(),"Y") -> 67 | I330: 20166 | J330: 既婚 | K330: 782 | L330: 神奈川県 | M330: 75 | N330: 77 | O330: 75 | P330: 58 | Q330: 49
E331: =ROW()-3 -> 328 | F331: ふじもと きみこ | G331: 女 | H331: =DATEDIF(I331,TODAY(),"Y") -> 52 | I331: 25637 | J331: 既婚 | K331: 626 | L331: 東京都 | M331: 42 | N331: 42 | O331: 63 | P331: 50 | Q331: 45
E332: =ROW()-3 -> 329 | F332: やなぎ ひとみ | G332: 女 | H332: =DATEDIF(I332,TODAY(),"Y") -> 37 | I332: 30964 | J332: 既婚 | K332: 367 | L332: 大阪府 | M332: 85 | N332: 54 | O332: 50 | P332: 95 | Q332: 59
... E362: =ROW()-3 -> 359 | F362: せと てっぺい | G362: 男 | H362: =DATEDIF(I362,TODAY(),"Y") -> 58 | I362: 23284 | J362: 既婚 | K362: 855 | L362: 熊本県 | M362: 85 | N362: 26 | O362: 95 | P362: 58 | Q362: 86
E363: =ROW()-3 -> 360 | F363: こまち ひろこ | G363: 女 | H363: 79 | I363: 15811 | J363: 既婚 | K363: 461 | L363: 愛知県 | M363: 90 | N363: 38 | O363: 46 | P363: 82 | Q363: 47
E364: =ROW()-3 -> 361 | F364: かみじょう なぎさ | G364: 女 | H364: =DATEDIF(I364,TODAY(),"Y") -> 26 | I364: 34972 | J364: 既婚 | K364: 1039 | L364: 東京都 | M364: 93 | N364: 75 | O364: 19 | P364: 24 | Q364: 80
E365: =ROW()-3 -> 362 | F365: ひびの りょうすけ | G365: 男 | H365: =DATEDIF(I365,TODAY(),"Y") -> 69 | I365: 19290 | J365: 既婚 | K365: 342 | L365: 神奈川県 | M365: 76 | N365: 68 | O365: 60 | P365: 64 | Q365: 53
E366: =ROW()-3 -> 363 | F366: もりぐち あさか | G366: 女 | H366: =DATEDIF(I366,TODAY(),"Y") -> 59 | I366: 22848 | J366: 既婚 | K366: 1037 | L366: 埼玉県 | M366: 47 | N366: 94 | O366: 52 | P366: 90 | Q366: 76
E367: =ROW()-3 -> 364 | F367: すえなが みさこ | G367: 女 | H367: =DATEDIF(I367,TODAY(),"Y") -> 72 | I367: 18341 | J367: 既婚 | K367: 613 | L367: 秋田県 | M367: 46 | N367: 93 | O367: 70 | P367: 46 | Q367: 31
E368: =ROW()-3 -> 365 | F368: とりい あい | G368: 女 | H368: =DATEDIF(I368,TODAY(),"Y") -> 35 | I368: 31858 | J368: 既婚 | K368: 612 | L368: 埼玉県 | M368: 90 | N368: 51 | O368: 41 | P368: 33 | Q368: 22
E369: =ROW()-3 -> 366 | F369: ひらやま ひろし | G369: 男 | H369: =DATEDIF(I369,TODAY(),"Y") -> 48 | I369: 26949 | J369: 既婚 | K369: 375 | L369: 岩手県 | M369: 57 | N369: 79 | O369: 44 | P369: 29 | Q369: 37
E370: =ROW()-3 -> 367 | F370: ふきいし じん | G370: 男 | H370: =DATEDIF(I370,TODAY(),"Y") -> 46 | I370: 27574 | J370: 既婚 | K370: 381 | L370: 千葉県 | M370: 77 | N370: 64 | O370: 25 | P370: 93 | Q370: 36
E371: =ROW()-3 -> 368 | F371: ふじわら あきら | G371: 男 | H371: =DATEDIF(I371,TODAY(),"Y") -> 74 | I371: 17604 | J371: 既婚 | K371: 706 | L371: 愛知県 | M371: 22 | N371: 18 | O371: 25 | P371: 42 | Q371: 34
E372: =ROW()-3 -> 369 | F372: よりた あきら | G372: 男 | H372: =DATEDIF(I372,TODAY(),"Y") -> 28 | I372: 34233 | J372: 未婚 | K372: 1032 | L372: 北海道 | M372: 63 | N372: 58 | O372: 84 | P372: 31 | Q372: 67
E373: =ROW()-3 -> 370 | F373: てじま ひろ | G373: 男 | H373: =DATEDIF(I373,TODAY(),"Y") -> 27 | I373: 34710 | J373: 既婚 | K373: 650 | L373: 千葉県 | M373: 28 | N373: 29 | O373: 86 | P373: 19 | Q373: 72
E374: =ROW()-3 -> 371 | F374: あきやま はなこ | G374: 女 | H374: =DATEDIF(I374,TODAY(),"Y") -> 57 | I374: 23701 | J374: 既婚 | K374: 927 | L374: 熊本県 | M374: 30 | N374: 50 | O374: 73 | P374: 62 | Q374: 54
E375: =ROW()-3 -> 372 | F375: みさき さんたまりあ | G375: 女 | H375: =DATEDIF(I375,TODAY(),"Y") -> 57 | I375: 23691 | J375: 既婚 | K375: 382 | L375: 岡山県 | M375: 88 | N375: 77 | O375: 100 | P375: 39 | Q375: 38
... E479: =ROW()-3 -> 476 | F479: しげまつ なお | G479: 女 | H479: =DATEDIF(I479,TODAY(),"Y") -> 80 | I479: 15127 | J479: 既婚 | K479: 922 | L479: 宮城県 | M479: 31 | N479: 35 | O479: 84 | P479: 36 | Q479: 45
E480: =ROW()-3 -> 477 | F480: かたおか あきら | G480: 男 | H480: 44 | I480: 28077 | J480: 既婚 | K480: 789 | L480: 福島県 | M480: 38 | N480: 26 | O480: 29 | P480: 23 | Q480: 49
...

Sheet 【解答】問題
B2: =RIGHT(CELL("filename",A1),LEN(CELL("filename",A1))-FIND("]", CELL("filename",A1))) -> 【解答】問題
C4: 下記は「対象者」シートに対する問題です。 | I4: Hint
B5: No | C5: 問い | D5: 回答例
B6: =ROW()-5 -> 1 | C6: 男性の人数を計算しなさい。 | D6: =COUNTIF(【解答】対象者!G:G,"男") -> 241 | I6: …countif
B7: =ROW()-5 -> 2 | C7: 男性の既婚率を計算しなさい。 | D7: =COUNTIFS(【解答】対象者!G:G,"男",【解答】対象者!J:J,"既婚")/D6 -> 0.82572614 | I7: …countif,countifs
B8: =ROW()-5 -> 3 | C8: 全ての科目（5科目）で70点以上の結果を出している人数を計算しなさい。 | D8: =SUM(【解答】対象者!R:R) -> 7 | I8: …countifs,and
B9: =ROW()-5 -> 4 | C9: 5科目中いずれかの科目で60点未満の結果を出している人数を計算しなさい。 | D9: =SUM(【解答】対象者!S4:S502) -> 480 | I9: …countifs,or
B10: =ROW()-5 -> 5 | C10: 5科目の平均点が70点以上で、1科目も60点未満の科目がない結果を出している人数を計算しなさい。 | D10: =COUNTIFS(【解答】対象者!S4:S502,0,【解答】対象者!T4:T502,1) -> 19 | I10: …countifs,and,or,if
B11: =ROW()-5 -> 6 | C11: 1980年代に生まれた女性の「国語」の平均点を計算しなさい。 | D11: =AVERAGEIFS(【解答】対象者!M4:M502,【解答】対象者!G4:G502,"女",【解答】対象者!U4:U502,1) -> 60.166667 | I11: …averageifs,average
B12: =ROW()-5 -> 7 | C12: ="""" & ADDRESS(ROW(I12),COLUMN(I12),4) &"""" &"セルに表示されている誕生日に該当する人の現住所を表示しなさい。（誕生日に重複はありません）" -> "I12"セルに表示されている誕生日に該当する人の現住所を表示しなさい。（誕生日に重複はありません） | D12: =VLOOKUP(H12,【解答】対象者!I:L,4,0) -> 埼玉県 | G12: 誕生日 | H12: 22920 | I12: …vlookup
B13: =ROW()-5 -> 8 | C13: 誤った年齢の人が何人いるか計算しなさい。（誕生日が正とする） | D13: =SUM(【解答】対象者!V4:V502) -> 5 | I13: …countif,datedif
B14: =ROW()-5 -> 9 | C14: 男性の英語の平均点と女性の英語の平均点を比較し、高い方の性別を表示しなさい。 | D14: =IF(AVERAGEIFS(【解答】対象者!Q4:Q502,【解答】対象者!G4:G502,"男")>AVERAGEIFS(【解答】対象者!Q4:Q502,【解答】対象者!G4:G502,"女"),"男","女") -> 男 | I14: …if,average,averageif
B15: =ROW()-5 -> 10 | C15: 30代女性で「東京都または神奈川県」にお住まいの、既婚者のうち最も「英語」が出来る人の名前を表示しなさい。 | D15: =VLOOKUP(MAX(【解答】対象者!C4:C502),【解答】対象者!C4:F502,4,0) -> かしわぎ めい | I15: …vlookup,and,or,max,if
C16: （チャレンジ問題1）今日以降で最も誕生日が近い人の名前を表示しなさい。 | D16: =VLOOKUP(MIN(【解答】対象者!B4:B502),【解答】対象者!B4:F502,5,0) -> きむら えりか
C17: （チャレンジ問題2）対象者シートのG列で「男」のセルだけ青文字にしなさい。 | I17: …【解答】対象者>ホーム＞条件付き書式＞ルールの管理＞書式ルールの範囲＞このワークシート で、確認できます。
C18: （チャレンジ問題3）東京・神奈川・千葉・埼玉の男女の人数を表にまとめ、グラフ化しなさい。 | L18: チャレンジ問題3)
M19: 男 | N19: 女
L20: 東京都 | M20: =COUNTIFS(【解答】対象者!$L:$L,$L20,【解答】対象者!$G:$G,M$19) -> 23 | N20: =COUNTIFS(【解答】対象者!$L:$L,$L20,【解答】対象者!$G:$G,N$19) -> 29
L21: 神奈川県 | M21: =COUNTIFS(【解答】対象者!$L:$L,$L21,【解答】対象者!$G:$G,M$19) -> 13 | N21: =COUNTIFS(【解答】対象者!$L:$L,$L21,【解答】対象者!$G:$G,N$19) -> 10
L22: 千葉県 | M22: =COUNTIFS(【解答】対象者!$L:$L,$L22,【解答】対象者!$G:$G,M$19) -> 8 | N22: =COUNTIFS(【解答】対象者!$L:$L,$L22,【解答】対象者!$G:$G,N$19) -> 12
L23: 埼玉県 | M23: =COUNTIFS(【解答】対象者!$L:$L,$L23,【解答】対象者!$G:$G,M$19) -> 11 | N23: =COUNTIFS(【解答】対象者!$L:$L,$L23,【解答】対象者!$G:$G,N$19) -> 15

Sheet 【解答】対象者
E2: 基本情報 | M2: テスト結果
B3: チャレンジ問題 | C3: 問10 | D3: 問10 | E3: No | F3: なまえ | G3: 性別 | H3: 年齢 | I3: 誕生日 | J3: 婚姻 | K3: 平均年収 | L3: 現住所 | M3: 国語 | N3: 数学 | O3: 理科 | P3: 社会 | Q3: 英語 | R3: 問3 | S3: 問4 | T3: 問5 | U3: 問6 | V3: 問8
B4: =DATEDIF(I4,TODAY(),"YD") -> 139 | C4: =IF(D4=1,Q4,"") | D4: =IF(AND(J4="既婚",H4>29,H4<40,G4="女",OR(L4="東京都",L4="神奈川県")),1,0) -> 0 | E4: =対象者!E4 -> 1 | F4: =対象者!F4 -> いだ としえ | G4: =対象者!G4 -> 女 | H4: =対象者!H4 -> 69 | I4: =対象者!I4 -> 19318 | J4: =対象者!J4 -> 既婚 | K4: =対象者!K4 -> 625 | L4: =対象者!L4 -> 東京都 | ... Q4: =対象者!Q4 -> 55 | R4: =IF(AND(M4>69,N4>69,O4>69,P4>69,Q4>69),1,0) -> 0 | S4: =IF(OR(N4<60,O4<60,P4<60,Q4<60,M4<60),1,0) -> 1 | T4: =IF(AND(AVERAGE(M4:Q4)>=70,AND(M4>=60,N4>=60,O4>=60,P4>=60,Q4>=60)),1,0) -> 0 | U4: =IF(AND(YEAR(I4)>1979,YEAR(I4)<1990),1,0) -> 0 | V4: =IF(DATEDIF(I4,TODAY(),"Y")=H4,0,1) -> 0
B5: =DATEDIF(I5,TODAY(),"YD") -> 319 | C5: =IF(D5=1,Q5,"") | D5: =IF(AND(J5="既婚",H5>29,H5<40,G5="女",OR(L5="東京都",L5="神奈川県")),1,0) -> 0 | E5: =対象者!E5 -> 2 | F5: =対象者!F5 -> みはし ゆうじろう | G5: =対象者!G5 -> 男 | H5: =対象者!H5 -> 41 | I5: =対象者!I5 -> 29365 | J5: =対象者!J5 -> 既婚 | K5: =対象者!K5 -> 813 | L5: =対象者!L5 -> 埼玉県 | ... Q5: =対象者!Q5 -> 69 | R5: =IF(AND(M5>69,N5>69,O5>69,P5>69,Q5>69),1,0) -> 0 | S5: =IF(OR(N5<60,O5<60,P5<60,Q5<60,M5<60),1,0) -> 1 | T5: =IF(AND(AVERAGE(M5:Q5)>=70,AND(M5>=60,N5>=60,O5>=60,P5>=60,Q5>=60)),1,0) -> 0 | U5: =IF(AND(YEAR(I5)>1979,YEAR(I5)<1990),1,0) -> 1 | V5: =IF(DATEDIF(I5,TODAY(),"Y")=H5,0,1) -> 0
B6: =DATEDIF(I6,TODAY(),"YD") -> 102 | C6: =IF(D6=1,Q6,"") | D6: =IF(AND(J6="既婚",H6>29,H6<40,G6="女",OR(L6="東京都",L6="神奈川県")),1,0) -> 0 | E6: =対象者!E6 -> 3 | F6: =対象者!F6 -> いしやま りゅうきち | G6: =対象者!G6 -> 男 | H6: =対象者!H6 -> 33 | I6: =対象者!I6 -> 32504 | J6: =対象者!J6 -> 未婚 | K6: =対象者!K6 -> 623 | L6: =対象者!L6 -> 東京都 | ... Q6: =対象者!Q6 -> 69 | R6: =IF(AND(M6>69,N6>69,O6>69,P6>69,Q6>69),1,0) -> 0 | S6: =IF(OR(N6<60,O6<60,P6<60,Q6<60,M6<60),1,0) -> 1 | T6: =IF(AND(AVERAGE(M6:Q6)>=70,AND(M6>=60,N6>=60,O6>=60,P6>=60,Q6>=60)),1,0) -> 0 | U6: =IF(AND(YEAR(I6)>1979,YEAR(I6)<1990),1,0) -> 1 | V6: =IF(DATEDIF(I6,TODAY(),"Y")=H6,0,1) -> 0
B7: =DATEDIF(I7,TODAY(),"YD") -> 326 | C7: =IF(D7=1,Q7,"") | D7: =IF(AND(J7="既婚",H7>29,H7<40,G7="女",OR(L7="東京都",L7="神奈川県")),1,0) -> 0 | E7: =対象者!E7 -> 4 | F7: =対象者!F7 -> ふるた しんいち | G7: =対象者!G7 -> 男 | H7: =対象者!H7 -> 74 | I7: =対象者!I7 -> 17305 | J7: =対象者!J7 -> 既婚 | K7: =対象者!K7 -> 348 | L7: =対象者!L7 -> 岡山県 | ... Q7: =対象者!Q7 -> 85 | R7: =IF(AND(M7>69,N7>69,O7>69,P7>69,Q7>69),1,0) -> 0 | S7: =IF(OR(N7<60,O7<60,P7<60,Q7<60,M7<60),1,0) -> 1 | T7: =IF(AND(AVERAGE(M7:Q7)>=70,AND(M7>=60,N7>=60,O7>=60,P7>=60,Q7>=60)),1,0) -> 0 | U7: =IF(AND(YEAR(I7)>1979,YEAR(I7)<1990),1,0) -> 0 | V7: =IF(DATEDIF(I7,TODAY(),"Y")=H7,0,1) -> 0
B8: =DATEDIF(I8,TODAY(),"YD") -> 159 | C8: =IF(D8=1,Q8,"") | D8: =IF(AND(J8="既婚",H8>29,H8<40,G8="女",OR(L8="東京都",L8="神奈川県")),1,0) -> 0 | E8: =対象者!E8 -> 5 | F8: =対象者!F8 -> ながしま ひろあき | G8: =対象者!G8 -> 男 | H8: =対象者!H8 -> 74 | I8: =対象者!I8 -> 17472 | J8: =対象者!J8 -> 既婚 | K8: =対象者!K8 -> 1099 | L8: =対象者!L8 -> 宮崎県 | ... Q8: =対象者!Q8 -> 25 | R8: =IF(AND(M8>69,N8>69,O8>69,P8>69,Q8>69),1,0) -> 0 | S8: =IF(OR(N8<60,O8<60,P8<60,Q8<60,M8<60),1,0) -> 1 | T8: =IF(AND(AVERAGE(M8:Q8)>=70,AND(M8>=60,N8>=60,O8>=60,P8>=60,Q8>=60)),1,0) -> 0 | U8: =IF(AND(YEAR(I8)>1979,YEAR(I8)<1990),1,0) -> 0 | V8: =IF(DATEDIF(I8,TODAY(),"Y")=H8,0,1) -> 0
B9: =DATEDIF(I9,TODAY(),"YD") -> 217 | C9: =IF(D9=1,Q9,"") | D9: =IF(AND(J9="既婚",H9>29,H9<40,G9="女",OR(L9="東京都",L9="神奈川県")),1,0) -> 0 | E9: =対象者!E9 -> 6 | F9: =対象者!F9 -> ほんやま はなこ | G9: =対象者!G9 -> 女 | H9: =対象者!H9 -> 80 | I9: =対象者!I9 -> 15222 | J9: =対象者!J9 -> 既婚 | K9: =対象者!K9 -> 715 | L9: =対象者!L9 -> 島根県 | ... Q9: =対象者!Q9 -> 39 | R9: =IF(AND(M9>69,N9>69,O9>69,P9>69,Q9>69),1,0) -> 0 | S9: =IF(OR(N9<60,O9<60,P9<60,Q9<60,M9<60),1,0) -> 1 | T9: =IF(AND(AVERAGE(M9:Q9)>=70,AND(M9>=60,N9>=60,O9>=60,P9>=60,Q9>=60)),1,0) -> 0 | U9: =IF(AND(YEAR(I9)>1979,YEAR(I9)<1990),1,0) -> 0 | V9: =IF(DATEDIF(I9,TODAY(),"Y")=H9,0,1) -> 0
B10: =DATEDIF(I10,TODAY(),"YD") -> 54 | C10: =IF(D10=1,Q10,"") | D10: =IF(AND(J10="既婚",H10>29,H10<40,G10="女",OR(L10="東京都",L10="神奈川県")),1,0) -> 0 | E10: =対象者!E10 -> 7 | F10: =対象者!F10 -> ありた ゆういち | G10: =対象者!G10 -> 男 | H10: =対象者!H10 -> 85 | I10: =対象者!I10 -> 13559 | J10: =対象者!J10 -> 既婚 | K10: =対象者!K10 -> 587 | L10: =対象者!L10 -> 広島県 | ... Q10: =対象者!Q10 -> 32 | R10: =IF(AND(M10>69,N10>69,O10>69,P10>69,Q10>69),1,0) -> 0 | S10: =IF(OR(N10<60,O10<60,P10<60,Q10<60,M10<60),1,0) -> 1 | T10: =IF(AND(AVERAGE(M10:Q10)>=70,AND(M10>=60,N10>=60,O10>=60,P10>=60,Q10>=60)),1,0) -> 0 | U10: =IF(AND(YEAR(I10)>1979,YEAR(I10)<1990),1,0) -> 0 | V10: =IF(DATEDIF(I10,TODAY(),"Y")=H10,0,1) -> 0
B11: =DATEDIF(I11,TODAY(),"YD") -> 222 | C11: =IF(D11=1,Q11,"") | D11: =IF(AND(J11="既婚",H11>29,H11<40,G11="女",OR(L11="東京都",L11="神奈川県")),1,0) -> 0 | E11: =対象者!E11 -> 8 | F11: =対象者!F11 -> おいかわ いくこ | G11: =対象者!G11 -> 女 | H11: =対象者!H11 -> 40 | I11: =対象者!I11 -> 29827 | J11: =対象者!J11 -> 既婚 | K11: =対象者!K11 -> 656 | L11: =対象者!L11 -> 千葉県 | ... Q11: =対象者!Q11 -> 46 | R11: =IF(AND(M11>69,N11>69,O11>69,P11>69,Q11>69),1,0) -> 0 | S11: =IF(OR(N11<60,O11<60,P11<60,Q11<60,M11<60),1,0) -> 1 | T11: =IF(AND(AVERAGE(M11:Q11)>=70,AND(M11>=60,N11>=60,O11>=60,P11>=60,Q11>=60)),1,0) -> 0 | U11: =IF(AND(YEAR(I11)>1979,YEAR(I11)<1990),1,0) -> 1 | V11: =IF(DATEDIF(I11,TODAY(),"Y")=H11,0,1) -> 0
B12: =DATEDIF(I12,TODAY(),"YD") -> 10 | C12: =IF(D12=1,Q12,"") | D12: =IF(AND(J12="既婚",H12>29,H12<40,G12="女",OR(L12="東京都",L12="神奈川県")),1,0) -> 0 | E12: =対象者!E12 -> 9 | F12: =対象者!F12 -> いしはら まさひこ | G12: =対象者!G12 -> 男 | H12: =対象者!H12 -> 26 | I12: =対象者!I12 -> 35153 | J12: =対象者!J12 -> 未婚 | K12: =対象者!K12 -> 484 | L12: =対象者!L12 -> 兵庫県 | ... Q12: =対象者!Q12 -> 90 | R12: =IF(AND(M12>69,N12>69,O12>69,P12>69,Q12>69),1,0) -> 0 | S12: =IF(OR(N12<60,O12<60,P12<60,Q12<60,M12<60),1,0) -> 1 | T12: =IF(AND(AVERAGE(M12:Q12)>=70,AND(M12>=60,N12>=60,O12>=60,P12>=60,Q12>=60)),1,0) -> 0 | U12: =IF(AND(YEAR(I12)>1979,YEAR(I12)<1990),1,0) -> 0 | V12: =IF(DATEDIF(I12,TODAY(),"Y")=H12,0,1) -> 0
B13: =DATEDIF(I13,TODAY(),"YD") -> 155 | C13: =IF(D13=1,Q13,"") | D13: =IF(AND(J13="既婚",H13>29,H13<40,G13="女",OR(L13="東京都",L13="神奈川県")),1,0) -> 0 | E13: =対象者!E13 -> 10 | F13: =対象者!F13 -> たきぐち けん | G13: =対象者!G13 -> 男 | H13: =対象者!H13 -> 81 | I13: =対象者!I13 -> 14919 | J13: =対象者!J13 -> 既婚 | K13: =対象者!K13 -> 753 | L13: =対象者!L13 -> 北海道 | ... Q13: =対象者!Q13 -> 82 | R13: =IF(AND(M13>69,N13>69,O13>69,P13>69,Q13>69),1,0) -> 0 | S13: =IF(OR(N13<60,O13<60,P13<60,Q13<60,M13<60),1,0) -> 1 | T13: =IF(AND(AVERAGE(M13:Q13)>=70,AND(M13>=60,N13>=60,O13>=60,P13>=60,Q13>=60)),1,0) -> 0 | U13: =IF(AND(YEAR(I13)>1979,YEAR(I13)<1990),1,0) -> 0 | V13: =IF(DATEDIF(I13,TODAY(),"Y")=H13,0,1) -> 0
B14: =DATEDIF(I14,TODAY(),"YD") -> 344 | C14: =IF(D14=1,Q14,"") | D14: =IF(AND(J14="既婚",H14>29,H14<40,G14="女",OR(L14="東京都",L14="神奈川県")),1,0) -> 0 | E14: =対象者!E14 -> 11 | F14: =対象者!F14 -> あい あみ | G14: =対象者!G14 -> 女 | H14: =対象者!H14 -> 64 | I14: =対象者!I14 -> 20939 | J14: =対象者!J14 -> 既婚 | K14: =対象者!K14 -> 504 | L14: =対象者!L14 -> 愛媛県 | ... Q14: =対象者!Q14 -> 65 | R14: =IF(AND(M14>69,N14>69,O14>69,P14>69,Q14>69),1,0) -> 0 | S14: =IF(OR(N14<60,O14<60,P14<60,Q14<60,M14<60),1,0) -> 1 | T14: =IF(AND(AVERAGE(M14:Q14)>=70,AND(M14>=60,N14>=60,O14>=60,P14>=60,Q14>=60)),1,0) -> 0 | U14: =IF(AND(YEAR(I14)>1979,YEAR(I14)<1990),1,0) -> 0 | V14: =IF(DATEDIF(I14,TODAY(),"Y")=H14,0,1) -> 0
B15: =DATEDIF(I15,TODAY(),"YD") -> 263 | C15: =IF(D15=1,Q15,"") | D15: =IF(AND(J15="既婚",H15>29,H15<40,G15="女",OR(L15="東京都",L15="神奈川県")),1,0) -> 0 | E15: =対象者!E15 -> 12 | F15: =対象者!F15 -> よこかわ ひとり | G15: =対象者!G15 -> 男 | H15: =対象者!H15 -> 27 | I15: =対象者!I15 -> 34534 | J15: =対象者!J15 -> 未婚 | K15: =対象者!K15 -> 721 | L15: =対象者!L15 -> 愛知県 | ... Q15: =対象者!Q15 -> 63 | R15: =IF(AND(M15>69,N15>69,O15>69,P15>69,Q15>69),1,0) -> 0 | S15: =IF(OR(N15<60,O15<60,P15<60,Q15<60,M15<60),1,0) -> 1 | T15: =IF(AND(AVERAGE(M15:Q15)>=70,AND(M15>=60,N15>=60,O15>=60,P15>=60,Q15>=60)),1,0) -> 0 | U15: =IF(AND(YEAR(I15)>1979,YEAR(I15)<1990),1,0) -> 0 | V15: =IF(DATEDIF(I15,TODAY(),"Y")=H15,0,1) -> 0
... B502: =DATEDIF(I502,TODAY(),"YD") -> 311 | C502: =IF(D502=1,Q502,"") | D502: =IF(AND(J502="既婚",H502>29,H502<40,G502="女",OR(L502="東京都",L502="神奈川県")),1,0) -> 0 | E502: =対象者!E502 -> 499 | F502: =対象者!F502 -> うちの はるか | G502: =対象者!G502 -> 女 | H502: =対象者!H502 -> 61 | I502: =対象者!I502 -> 22068 | J502: =対象者!J502 -> 既婚 | K502: =対象者!K502 -> 495 | L502: =対象者!L502 -> 青森県 | ... Q502: =対象者!Q502 -> 60 | R502: =IF(AND(M502>69,N502>69,O502>69,P502>69,Q502>69),1,0) -> 0 | S502: =IF(OR(N502<60,O502<60,P502<60,Q502<60,M502<60),1,0) -> 1 | T502: =IF(AND(AVERAGE(M502:Q502)>=70,AND(M502>=60,N502>=60,O502>=60,P502>=60,Q502>=60)),1,0) -> 0 | U502: =IF(AND(YEAR(I502)>1979,YEAR(I502)<1990),1,0) -> 0 | V502: =IF(DATEDIF(I502,TODAY(),"Y")=H502,0,1) -> 0
