Workbook
Name 名簿: '名簿 原本 '!$A$4:$W$156

Sheet 名簿
A1: 1 | B1: 2 | C1: 3 | D1: 4 | E1: 5 | F1: 6 | G1: 7 | H1: 8 | I1: 9
A2: 番号 | B2: フロア | C2: 名前 | D2: 治療食 | E2: 形態 | F2: 主食 | G2: 禁止 | H2: その他 | I2: 備考
A4: 1 | B4: 1F | C4: 高橋 のぞみ | E4: 普通 | F4: 米飯150g | G4: 鶏禁
A5: 2 | B5: 1F | C5: 村口 光恵 | E5: 普通 | F5: 全粥300g
A6: 3 | B6: 1F | C6: 大下 学 | D6: 減塩食 | E6: 一口 | F6: 全粥300g | G6: 麺禁 | H6: 葉物刻み
A7: 4 | B7: 1F | C7: 鈴木 誠司 | E7: 普通 | F7: 全粥300g
A8: 5 | B8: 1F | C8: 山田 綾 | E8: 普通 | F8: 米飯150g | G8: 肉禁
A9: 6 | B9: 1F | C9: 中田 章弘 | E9: 普通 | F9: 米飯150g
A10: 7 | B10: 1F | C10: 齋藤 高宏 | E10: 普通 | F10: 米飯80g
A11: 8 | B11: 1F | C11: 田中 伸夫 | E11: 普通 | F11: 米飯150g
A12: 9 | B12: 1F | C12: 井出 義彦 | E12: 普通 | F12: 米飯150g
A13: 10 | B13: 1F | C13: 大林 修 | E13: 普通 | F13: 米飯150g | G13: さばアレルギー
A14: 11 | B14: 1F | C14: 橋本 慎平 | E14: 普通 | F14: 米飯150g
A15: 12 | B15: 2F | C15: 中島 貴大 | E15: 普通 | F15: 米飯80g
A16: 13 | B16: 2F | C16: 南雲 大地 | E16: 普通 | F16: 米飯150g
A17: 14 | B17: 2F | C17: 加藤 将貴 | E17: 普通 | F17: 米飯150g
A18: 15 | B18: 2F | C18: 齋藤 幸男 | E18: 普通 | F18: 米飯150g
A19: 16 | B19: 2F | C19: 廣谷 寛樹 | E19: 普通 | F19: 全粥300g
A20: 17 | B20: 2F | C20: 日比野 猛 | E20: 普通 | F20: 全粥300g
A21: 18 | B21: 2F | C21: 濱田 祥平 | E21: 普通 | F21: 全粥300g | G21: 麺禁
A22: 19 | B22: 2F | C22: 吉田 隆幸 | E22: 普通 | F22: 全粥300g
A23: 20 | B23: 2F | C23: 松原 敦 | E23: 普通 | F23: 全粥300g
A24: 21 | B24: 2F | C24: 篠原 温子 | E24: 普通 | F24: 全粥300g
A25: 22 | B25: 2F | C25: 田中 亮平 | D25: 減塩食 | E25: 普通 | F25: 全粥300g
A26: 23 | B26: 2F | C26: 安達 光一郎 | E26: 普通 | F26: 全粥300g
A27: 24 | B27: 2F | C27: 高山 正一 | E27: 普通 | F27: 全粥300g
A28: 25 | B28: 3F | C28: 臼井 陽介 | E28: 普通 | F28: 全粥300g
A29: 26 | B29: 3F | C29: 内藤 薫 | E29: 普通 | F29: 全粥300g
A30: 27 | B30: 3F | C30: 望月 和之 | E30: 普通 | F30: 全粥300g
A31: 28 | B31: 3F | C31: 杉本 邦彦 | D31: エネコン1500 | E31: 普通 | F31: 米飯150g
A32: 29 | B32: 3F | C32: 櫻田 絵理 | E32: 普通 | F32: 全粥300g
A33: 30 | B33: 3F | C33: 栗林 英輔 | E33: 普通 | F33: 全粥300g
A34: 31 | B34: 3F | C34: 志村 匠 | E34: 普通 | F34: 全粥300g
A35: 32 | B35: 3F | C35: 松林 智哉 | E35: 普通 | F35: 全粥300g
A36: 33 | B36: 3F | C36: 岩谷 あゆみ | E36: 普通 | F36: 全粥300g
A37: 34 | B37: 3F | C37: 若林 学 | E37: 普通 | F37: 全粥300g
A38: 35 | B38: 3F | C38: 西村 一博 | D38: 減塩食 | E38: 一口大 | F38: 全粥300g | G38: 麺禁 | H38: 葉物刻み
A39: 36 | B39: 3F | C39: 渡邊 洋幸 | E39: 普通 | F39: 全粥300g
A40: 37 | B40: 3F | C40: 山下 梢 | E40: 普通 | F40: 全粥300g
A41: 38 | B41: 3F | C41: 佐藤 恵 | E41: 普通 | F41: 全粥300g
A42: 39 | B42: 3F | C42: 小塚 伸也 | E42: 普通 | F42: 全粥300g
A43: 40 | B43: 3F | C43: 櫻井 俊行 | E43: 普通 | F43: 全粥300g
A44: 41 | B44: 通所 | C44: 今野 あや子 | D44: 減塩 | E44: 普通 | F44: 全粥300g
A45: 42 | B45: 通所 | C45: 石井 浩司 | E45: 普通 | F45: 全粥300g
A46: 43 | B46: 通所 | C46: 大阪 慶子 | E46: 普通 | F46: 全粥300g
A47: 44 | B47: 通所 | C47: 村松 美也子 | E47: 普通 | F47: 全粥300g
A48: 45 | B48: 通所 | C48: 渡辺 壮史 | E48: 普通 | F48: 全粥300g
A49: 46 | B49: 通所 | C49: 前田 浩司 | E49: 普通 | F49: 全粥300g
A50: 47 | B50: 通所 | C50: 岩見 友里 | E50: 普通 | F50: 全粥300g
A51: 48 | B51: 通所 | C51: 冨井 純也 | E51: 一口大 | F51: 全粥300g | G51: パン禁
A52: 49 | B52: 通所 | C52: 松田 守人 | E52: 普通 | F52: 全粥300g
A53: 50 | B53: 通所 | C53: 佐々木 さゆり | D53: エネコン1200 | E53: 普通 | F53: 全粥150g
A54: 51 | B54: 通所 | C54: 高柳 俊之 | E54: 普通 | F54: 全粥300g
A55: 52 | B55: 通所 | C55: 山崎 ありさ | E55: 普通 | F55: 全粥300g
A56: 53 | B56: 通所 | C56: 小澤 雅彦 | E56: 普通 | F56: 全粥300g
A57: 54 | B57: 通所 | C57: 酒向 信二 | D57: 減塩食 | E57: 普通 | F57: 全粥300g
A58: 55 | B58: 通所 | C58: 馬場 優美 | E58: 普通 | F58: 全粥300g
A59: 56 | B59: 通所 | C59: 吉田 みどり | E59: 普通 | F59: 全粥300g
A60: 57 | B60: 通所 | C60: 野村 一弥 | E60: 普通 | F60: 米飯150g
A61: 58 | B61: 通所 | C61: 森川 遥 | E61: 普通 | F61: 全粥300g
A62: 59 | B62: 通所 | C62: 大村 亮太 | E62: 普通 | F62: 米飯80g
A63: 60 | B63: 通所 | C63: 森 敏文 | D63: 減塩 | E63: 普通 | F63: 全粥300g
A64: 61 | B64: 通所 | C64: 遠藤 直子 | E64: 普通 | F64: 全粥300g | G64: 青魚禁
A65: 62 | B65: 通所 | C65: 吉江 春樹 | E65: 一口大 | F65: 全粥300g | H65: 滑り止め
A66: 63 | B66: 通所 | C66: 椛澤 徹 | E66: 一口大 | F66: 全粥300g
A67: 64 | B67: 通所 | C67: 永尾 亮太 | E67: 刻みトロミ | F67: 全粥300g
A68: 65 | B68: 通所 | C68: 島袋 茂 | E68: 一口大 | F68: 米飯150g
A69: 66 | B69: 通所 | C69: 井関 菜月 | E69: 一口大 | F69: 全粥300g
A70: 67 | B70: 通所 | C70: 北村 誠 | E70: 一口大 | F70: 全粥150g
A71: 68 | B71: 通所 | C71: 北澤 隆仁 | E71: 一口大 | F71: 全粥300g
A72: 69 | B72: 通所 | C72: 岩橋 勇樹 | E72: 一口大 | F72: 全粥300g
A73: 70 | B73: 通所 | C73: 若狭 芳彰 | E73: 一口大 | F73: 全粥300g
A74: 71 | B74: 通所 | C74: 久富 一彰 | E74: 一口大 | F74: 全粥300g
A75: 72 | B75: 通所 | C75: 妹尾 邦子 | E75: 一口大 | F75: 米飯150g
A76: 73 | B76: 通所 | C76: 宇都宮 佳代子 | D76: 減塩 | E76: 一口大 | F76: 全粥300g
A77: 74 | B77: 通所 | C77: 舞田 主税 | E77: 一口大 | F77: 全粥300g
A78: 75 | B78: 通所 | C78: 竹村 悦美 | E78: 一口大 | F78: 全粥300g
A79: 76 | B79: 通所 | C79: 品川 智一 | E79: 普通 | F79: 全粥300g
A80: 77 | B80: 通所 | C80: 半澤 可奈子 | E80: 一口大 | F80: 全粥300g
A81: 78 | B81: 通所 | C81: 松山 吉洋 | E81: 一口大 | F81: 全粥300g
A82: 79 | B82: 通所 | C82: 有賀 有希 | E82: 一口大 | F82: 全粥300g
A83: 80 | B83: 通所 | C83: 寺田 おさむ | E83: 一口大 | F83: 全粥300g
A84: 81 | B84: 通所 | C84: 西岡 歩 | E84: 一口大 | F84: 全粥300g
A85: 82 | B85: 通所 | C85: 村山 芽久美 | E85: 一口大 | F85: 全粥300g
A86: 83 | B86: 通所 | C86: 田村 毅 | E86: 一口大 | F86: 全粥300g
A87: 84 | B87: 通所 | C87: 加藤 なほ | E87: 一口大 | F87: 全粥300g
A88: 85 | B88: 通所 | C88: 今村 寿哉 | E88: 一口大 | F88: 全粥300g
... A95: 92 | B95: 通所 | C95: 西村 和明 | E95: 普通 | F95: 全粥300g
A96: 93 | B96: 通所 | C96: 元田 文哉 | E96: 刻み | F96: 全粥150g | H96: 自助スプーン
A97: 94 | B97: 通所 | C97: 石田 健祐 | E97: 一口大 | F97: 全粥300g | G97: 麺禁
A98: 95 | B98: 通所 | C98: 菊池 美幸 | E98: 普通 | F98: 全粥300g
A99: 96 | B99: 通所 | C99: 杉本 大作 | E99: 普通 | F99: 全粥300g
A100: 97 | B100: 通所 | C100: 師岡 正人 | E100: 普通 | F100: 全粥300g
A101: 98 | B101: 通所 | C101: 大森 実 | E101: 一口大 | F101: 全粥300g
A102: 99 | B102: 通所 | C102: 前島 瞳 | E102: 普通 | F102: 全粥300g
A103: 100 | B103: 通所 | C103: 細谷 真理子 | E103: 普通 | F103: 全粥300g

Sheet 食札・食事箋
A1: 番号入力
A3: 3 | D3: =IFERROR(VLOOKUP($A$3,名簿!$A:$I,2,FALSE),"") -> 1F | E3: =IFERROR(VLOOKUP($A$3,名簿!$A:$I,4,FALSE),"") -> 減塩食 | F3: =IFERROR(VLOOKUP($A$3,名簿!$A:$I,3,FALSE),"")&" 様" -> 大下 学 様
D4: =IFERROR(VLOOKUP($A$3,名簿!$A:$I,5,FALSE),"") -> 一口
D7: =IFERROR(VLOOKUP($A$3,名簿!$A:$I,6,FALSE),"") -> 全粥300g
D10: =IFERROR(VLOOKUP($A$3,名簿!$A:$I,7,FALSE),"") -> 麺禁
D11: =IFERROR(VLOOKUP($A$3,名簿!$A:$I,8,FALSE),"") -> 葉物刻み
D16: 食事箋 カルテ保管 | K16: 食事箋 栄養部保管
D18: =IFERROR(VLOOKUP($A$3,名簿!$A:$I,3,FALSE),"")&" 様" -> 大下 学 様 | K18: =IFERROR(VLOOKUP($A$3,名簿!$A:$I,3,FALSE),"")&" 様" -> 大下 学 様
D21: 主食 | E21: =IFERROR(VLOOKUP($A$3,名簿!$A:$I,6,FALSE),"") -> 全粥300g | K21: 主食 | L21: =IFERROR(VLOOKUP($A$3,名簿!$A:$I,6,FALSE),"") -> 全粥300g
D22: 副食 | E22: =IFERROR(VLOOKUP($A$3,名簿!$A:$I,5,FALSE),"") -> 一口 | K22: 副食 | L22: =IFERROR(VLOOKUP($A$3,名簿!$A:$I,5,FALSE),"") -> 一口
D23: 禁止 | E23: =IFERROR(VLOOKUP($A$3,名簿!$A:$I,7,FALSE),"") -> 麺禁 | K23: 禁止 | L23: =IFERROR(VLOOKUP($A$3,名簿!$A:$I,7,FALSE),"") -> 麺禁
D24: その他 | E24: =IFERROR(VLOOKUP($A$3,名簿!$A:$I,8,FALSE),"") -> 葉物刻み | K24: その他 | L24: =IFERROR(VLOOKUP($A$3,名簿!$A:$I,8,FALSE),"") -> 葉物刻み
D25: 治療食 | E25: =IFERROR(VLOOKUP($A$3,名簿!$A:$I,4,FALSE),"") -> 減塩食 | K25: 治療食 | L25: =IFERROR(VLOOKUP($A$3,名簿!$A:$I,4,FALSE),"") -> 減塩食
D27: 発行日： | E27: =TODAY() -> 44774 | K27: 発行日： | L27: =TODAY() -> 44774
E29: 医師 | G29: 記入者 | L29: 通所 | N29: 厨房栄養士
D33: 備考 | E33: =IFERROR(VLOOKUP($A$3,名簿!$A:$I,9,FALSE),"") -> 0 | K33: 備考 | L33: =IFERROR(VLOOKUP($A$3,名簿!$A:$I,9,FALSE),"") -> 0

Sheet 【説明書】食札・食事箋 
A1: 番号入力
A3: 3 | D3: =IFERROR(VLOOKUP($A$3,名簿!$A:$I,2,FALSE),"") -> 1F | E3: =IFERROR(VLOOKUP($A$3,名簿!$A:$I,4,FALSE),"") -> 減塩食 | F3: =IFERROR(VLOOKUP($A$3,名簿!$A:$I,3,FALSE),"")&" 様" -> 大下 学 様
D4: =IFERROR(VLOOKUP($A$3,名簿!$A:$I,5,FALSE),"") -> 一口
D7: =IFERROR(VLOOKUP(A3,名簿!A:I,6,FALSE),"") -> 全粥300g
D10: =IFERROR(VLOOKUP($A$3,名簿!$A:$I,7,FALSE),"") -> 麺禁 | R10: ① | T10: ここの番号は、「名簿」シートのA列を参照するキーになります。
D11: =IFERROR(VLOOKUP($A$3,名簿!$A:$I,8,FALSE),"") -> 葉物刻み | R11: ② | T11: この色のセルはすべてvlookup関数を使って | AE11: の番号に該当するデータを「名簿」シートから出しています。
R13: ③ | T13: 例）ココの「VLOOKUP(A3,名簿!A:I,6,FALSE)」を例に説明します。
T15: VLOOKUP(A3,名簿!A:I,6,FALSE)
D16: 食事箋 カルテ保管 | K16: 食事箋 栄養部保管
T17: これを文章で説明すると…
D18: =IFERROR(VLOOKUP($A$3,名簿!$A:$I,3,FALSE),"")&" 様" -> 大下 学 様 | K18: =IFERROR(VLOOKUP($A$3,名簿!$A:$I,3,FALSE),"")&" 様" -> 大下 学 様 | T18: vlookup（A3セルの数字を，名簿シートのA列から探してA～I列の範囲内で，A列から右に6番目の列にある文字を，表示する） となります。
D21: 主食 | E21: =IFERROR(VLOOKUP($A$3,名簿!$A:$I,6,FALSE),"") -> 全粥300g | K21: 主食 | L21: =IFERROR(VLOOKUP($A$3,名簿!$A:$I,6,FALSE),"") -> 全粥300g
D22: 副食 | E22: =IFERROR(VLOOKUP($A$3,名簿!$A:$I,5,FALSE),"") -> 一口 | K22: 副食 | L22: =IFERROR(VLOOKUP($A$3,名簿!$A:$I,5,FALSE),"") -> 一口
D23: 禁止 | E23: =IFERROR(VLOOKUP($A$3,名簿!$A:$I,7,FALSE),"") -> 麺禁 | K23: 禁止 | L23: =IFERROR(VLOOKUP($A$3,名簿!$A:$I,7,FALSE),"") -> 麺禁
D24: その他 | E24: =IFERROR(VLOOKUP($A$3,名簿!$A:$I,8,FALSE),"") -> 葉物刻み | K24: その他 | L24: =IFERROR(VLOOKUP($A$3,名簿!$A:$I,8,FALSE),"") -> 葉物刻み
D25: 治療食 | E25: =IFERROR(VLOOKUP($A$3,名簿!$A:$I,4,FALSE),"") -> 減塩食 | K25: 治療食 | L25: =IFERROR(VLOOKUP($A$3,名簿!$A:$I,4,FALSE),"") -> 減塩食
D27: 発行日： | E27: =TODAY() -> 44774 | K27: 発行日： | L27: =TODAY() -> 44774 | U27: これで「名簿」シートにある「全粥300g」の文字を出せるということです。
E29: 医師 | G29: 記入者 | L29: 通所 | N29: 厨房栄養士
R31: ④ | S31: 名前を出したかったら | Y31: を３、禁止を出したかったら７に書き換えれば出てきますし
S32: 別の方のデータを出したければ、 | AA32: を、出したい方の番号にすれば出てきますよ。
D33: 備考 | E33: =IFERROR(VLOOKUP($A$3,名簿!$A:$I,9,FALSE),"") -> 0 | K33: 備考 | L33: =IFERROR(VLOOKUP($A$3,名簿!$A:$I,9,FALSE),"") -> 0
T38: IFERROR関数は、IFERROR（A,B)のように使用します。「Aの数式や関数がエラーや表示する文字がないときはBを表示する」という意味です。
T39: 上記の例だと、A=VLOOKUP(A3,名簿!A:I,6,FALSE)にあたるため、この関数がもしエラーや表示する文字がないときは「""（空白）」を表示する、になります。
T41: TODAY()関数を使って、今日の日付を出しています。この関数を入れておけば、日付を手動で変更する必要がなくミスも防げます！
T43: $マークは「選択範囲を固定する」の意味を持ちます。関数や数式が入っているセルをコピーして別のセルに張り付けた時に、選択範囲まで動いてしまうのを防ぎます。

Sheet 名簿 原本 
A1: 1 | B1: 2 | C1: 3 | D1: 4 | E1: 5 | F1: 6 | G1: 7 | H1: 8 | I1: 9 | J1: 10 | K1: 11 | L1: 12 | M1: 13 | N1: 14 | O1: 15 | P1: 16 | Q1: 17 | R1: 18 | S1: 19 | T1: 20 | U1: 21 | V1: 22 | W1: 23
A2: 連番 | B2: フロア | C2: 名前 | D2: ドリンク | E2: 形態 | G2: 食 種 | M2: 朝 | O2: 朝 | Q2: 昼 | S2: 禁止食 | T2: コメント欄 | U2: 付加食 | V2: 付属2 | W2: 付属3 | X2: ショートｏｒロング | Y2: 最終処理日 | Z2: 処理者
F3: 量 | G3: ① | H3: ② | I3: ③ | J3: ④ | K3: ⑤ | L3: ⑥ | M3: 主食 | N3: 量 | O3: 主食 | P3: 量 | Q3: 主食 | R3: 量
A4: 1 | B4: 3 | C4: 石島 嘉民 | D4: 牛乳 | E4: 軟菜 | G4: 心臓② | M4: パン | Q4: 軟飯 | S4: 納豆禁
A5: 2 | B5: 3 | C5: 五十川キミ子 | D5: 牛乳 | E5: 軟菜 | M5: パン | Q5: 軟飯 | S5: カレー禁、サバ禁 | T5: サバアレルギー
A6: 3 | B6: 3 | C6: 伊藤 ミノル | E6: 粗刻み | M6: パン粥 | Q6: 全粥 | R6: 半 | S6: 卵禁 | T6: 自助食器（大）
A7: 4 | B7: 3 | C7: 上田 信子 | D7: 牛乳 | E7: 粗刻み | G7: 糖尿③ | M7: 日替わり | Q7: 糖③軟飯
A8: 5 | B8: 3 | C8: 浦上 博 | E8: ゼリー | M8: パン粥 | Q8: ゼリー粥 | R8: 半
A9: 6 | B9: 3 | C9: 上垣 ミサ江 | E9: 刻み | M9: パン粥 | Q9: 全粥
A10: 7 | B10: 3 | C10: 大田 清憲 | E10: 極刻み | M10: パン粥 | Q10: 全粥
A11: 8 | B11: 3 | C11: 大原 邦雄 | D11: 牛乳 | E11: 軟菜 | M11: パン | Q11: 軟飯 | R11: 大盛 | T11: マット
A12: 9 | B12: 3 | C12: 荻原 文子 | E12: 刻み | M12: パン粥 | Q12: 全粥 | R12: 半
A13: 10 | B13: 3 | C13: 奥田 マチ子 | D13: 牛乳 | E13: 刻み | G13: 高血圧 | M13: パン | Q13: 軟飯
A14: 11 | B14: 3 | C14: 奥谷 要 | D14: 牛乳 | E14: 軟菜 | M14: パン | Q14: 軟飯
A15: 12 | B15: 3 | C15: 加味 ふみ子 | D15: カフェオレ | E15: 粗刻み | M15: 日替わり | Q15: 軟飯 | S15: トマト禁
A16: 13 | B16: 3 | C16: 河野 幸子 | D16: 牛乳 | E16: 軟菜 | G16: 糖尿② | M16: 日替わり | Q16: 糖尿②軟飯
A17: 14 | B17: 2 | C17: 小北 トヨノ | D17: 牛乳 | E17: 粗刻み | M17: 日替わり | Q17: 軟飯 | S17: 魚禁
A18: 15 | B18: 2 | C18: 新開 治 | D18: 牛乳 | E18: 粗刻み | M18: 日替わり | Q18: 軟飯
A19: 16 | B19: 3 | C19: 杉村 コタキ | D19: オレンジジュース | E19: 極刻み | G19: 膵臓② | M19: 全粥 | Q19: 全粥 | T19: 飲むヨーグルトもオレンジＪ
A20: 17 | B20: 3 | C20: 高橋 千恵子 | D20: オレンジジュース | E20: 軟菜 | M20: パン | Q20: 軟飯
A21: 18 | B21: 3 | C21: 田中 イツ子 | D21: 牛乳 | E21: 軟菜 | M21: 日替わり | Q21: 軟飯
A22: 19 | B22: 3 | C22: 田中 和夫 | D22: 牛乳 | E22: 粗刻み | M22: パン | Q22: 軟飯
A23: 20 | B23: 3 | C23: 田畑 幸之信 | E23: ゼリー | M23: パン粥 | Q23: ゼリー粥 | U23: 昼ＣＰ10ジュース
A24: 21 | B24: 2 | C24: 辻 依子 | D24: 牛乳 | E24: 軟菜 | M24: 軟半 | N24: 半 | Q24: 軟飯 | R24: 半
A25: 22 | B25: 3 | C25: 筒嶋 かづゑ | D25: りんごジュース | E25: 軟菜 | M25: パン | Q25: 軟飯 | R25: 大盛 | S25: カレー禁
A26: 23 | B26: 3 | C26: 戸井 偕之 | D26: 牛乳 | E26: 刻み | M26: パン | Q26: 軟飯
A27: 24 | B27: 3 | C27: 長田 静子 | D27: カフェオレ | E27: 刻み | M27: 全粥 | N27: 半 | Q27: 全粥 | R27: 半 | S27: 色粥禁
A28: 25 | B28: 3 | C28: 中村 昭男 | E28: ゼリー | M28: パン粥 | Q28: ゼリー粥 | R28: 半 | U28: 昼プロッカ
A29: 26 | B29: 3 | C29: 夏目 康弘 | D29: 牛乳 | E29: 極刻み | M29: 全粥 | N29: 大盛 | Q29: 全粥 | R29: 大盛 | U29: 昼プロッカ
A30: 27 | B30: 3 | C30: 林 幸子 | E30: ゼリー | F30: 半 | M30: パン粥 | Q30: ゼリー粥 | R30: 半 | T30: マット | U30: 昼メイバランス
A31: 28 | B31: 3 | C31: 東中 克己 | D31: 牛乳 | E31: 軟菜 | M31: パン | Q31: 軟飯
A32: 29 | B32: 3 | C32: 藤井 幸次 | D32: りんごジュース | E32: 軟菜 | M32: 日替わり | Q32: 軟飯
A33: 30 | B33: 3 | C33: 水口 米子 | E33: 極刻み | M33: パン粥 | Q33: 全粥 | R33: 半
A34: 31
A35: 32 | B35: 3 | C35: 向山 ミツ子 | E35: 極刻み | M35: パン粥 | Q35: 軟飯 | R35: 半
A36: 33 | B36: 3 | C36: 森田 輝一 | D36: 牛乳 | E36: 粗刻み | M36: パン | Q36: 軟飯
A37: 34 | B37: 3 | C37: 山嵜 義晴 | E37: 刻み | M37: パン粥 | Q37: 全粥 | R37: 半 | T37: マット、自助食器
A38: 35 | B38: 3 | C38: 山田 美登 | D38: 牛乳 | E38: 軟菜 | M38: パン | Q38: 軟飯
A39: 36 | B39: 3 | C39: 山村 貞子 | D39: 牛乳 | E39: 粗刻み | M39: パン | Q39: おにぎり | R39: 3個
A40: 37
A41: 38 | B41: 3 | C41: 亘 千庸子 | D41: 牛乳 | E41: 軟菜 | M41: 日替わり | Q41: 軟飯
A42: 39 | B42: 3 | C42: 小山 トメ子 | D42: 牛乳 | E42: 刻み | G42: 糖尿③ | M42: 糖尿③全粥 | Q42: 糖尿③全粥
A43: 40 | B43: 2 | C43: 岩村 茂 | D43: オレンジジュース | E43: 粗刻み | M43: パン | Q43: パン
A44: 41 | B44: 2 | C44: 金川 英隆 | E44: 極刻み | M44: パン粥 | Q44: 全粥 | U44: 昼ＣＰ10ゼリー
A45: 42
A46: 43 | B46: 2 | C46: 大山 榮光 | D46: 牛乳 | E46: 軟菜 | M46: パン | Q46: 軟飯
A47: 44 | B47: 2 | C47: 垣内 美代子 | D47: 牛乳 | E47: 粗刻み | M47: パン | Q47: 全粥
A48: 45 | B48: 2 | C48: 黒山 照子 | D48: カフェオレ | E48: 粗刻み | M48: パン | Q48: パン | S48: バナナ禁→果物缶 | T48: マット
A49: 46 | B49: 2 | C49: 北 キヨコ | E49: 粗刻み | M49: パン粥 | Q49: 全粥
A50: 47 | B50: 2 | C50: 須貝 敏子 | D50: 牛乳 | E50: 粗刻み | M50: パン | Q50: 軟飯
A51: 48 | B51: 2 | C51: 三浦 朝子 | D51: 牛乳 | E51: 軟菜 | M51: パン | Q51: おにぎり | R51: 3個
A52: 49 | B52: 2 | C52: 赤川 照子 | E52: ゼリー | F52: 半 | M52: パン粥 | Q52: 全粥
A53: 50 | B53: 2 | C53: 濁川 ヨシ | E53: ゼリー | F53: 半 | M53: パン粥ミキサー | Q53: ゼリー | R53: 半
A54: 51 | B54: 2 | C54: 大瀧 輝江 | D54: 牛乳 | E54: 軟菜 | M54: パン | Q54: 全粥 | T54: 朝イチゴジャム指定
A55: 52 | B55: 2 | C55: 松田 繁子 | E55: ゼリー | F55: 半 | M55: パン粥 | Q55: ゼリー | R55: 半
A56: 53 | B56: 2 | C56: 塚本 清松 | D56: 牛乳 | E56: 粗刻み | M56: パン | Q56: 軟飯 | R56: 半
A57: 54 | B57: 2 | C57: 福田 末野 | E57: 極刻み | G57: 心臓② | M57: パン粥 | Q57: 全粥 | R57: 半 | U57: 昼プロッカ
A58: 55 | B58: 2 | C58: 坂田 良 | D58: 牛乳 | E58: 粗刻み | M58: パン | Q58: 全粥
A59: 56 | B59: 2 | C59: 谷口 正子 | E59: 極刻み | M59: パン粥 | Q59: 全粥 | R59: 半
A60: 57 | B60: 2 | C60: 酒井 浪子 | E60: 極刻み | M60: パン粥 | Q60: 全粥 | R60: 半
A61: 58 | B61: 2 | C61: 福本 光子 | E61: 極刻み | M61: パン粥 | Q61: 全粥
A62: 59 | B62: 2 | C62: 藤井 洋子 | D62: オレンジジュース | E62: 軟菜 | M62: パン | Q62: 軟飯 | R62: 半
A63: 60 | B63: 2 | C63: 池知 京子 | E63: 極刻み | M63: パン粥 | Q63: 全粥 | R63: 半 | S63: 柿禁止 | T63: 柿アレルギー
A64: 61 | B64: 2 | C64: 宮本 壽鶴子 | D64: 牛乳 | E64: 粗刻み | M64: パン | Q64: 全粥
A65: 62 | B65: 2 | C65: 西田 マサコ | E65: 極刻み | G65: 肝臓Ａ | M65: パン粥 | Q65: 全粥 | R65: 半 | T65: 自助食器、マット
A66: 63 | B66: 2 | C66: 石川 繁 | D66: カフェオレ | E66: 粗刻み | M66: パン | Q66: 軟飯 | R66: 半
A67: 64 | B67: 2 | C67: 水石 千里 | E67: 極刻み | M67: パン粥 | Q67: 全粥 | T67: マット
A68: 65 | B68: 2 | C68: 萩野 德子 | E68: 極刻み | M68: パン粥 | Q68: 軟飯 | R68: 半 | S68: 卵禁止 | T68: 卵白アレルギー
A69: 66 | B69: 2 | C69: 渡邊 百合子 | E69: 極刻み | M69: パン粥 | Q69: 全粥 | R69: 半 | U69: 昼プロッカ
A70: 67 | B70: 2 | C70: 森田 昭子 | D70: 牛乳 | E70: 軟菜 | M70: 日替わり | Q70: 軟飯
A71: 68 | B71: 3 | C71: 山﨑 亮 | E71: 粗刻み | M71: パン | Q71: 軟飯
A72: 69 | B72: 3 | C72: 塩山 宮子 | D72: 牛乳 | E72: 軟菜 | M72: 日替わり | Q72: 軟飯
A73: 70 | B73: 2 | C73: 後藤 成子
A74: 71 | B74: 3 | C74: 山下 佳子 | D74: 牛乳 | E74: 粗刻み | M74: 日替わり | Q74: 軟飯
A75: 72 | B75: 3 | C75: 野木 八重子 | D75: 牛乳 | E75: 軟菜 | M75: パン | Q75: 軟飯
A76: 73 | B76: 3 | C76: 中西 悦子
A77: 74 | B77: 3 | C77: 吉村 美津子 | D77: 牛乳 | E77: 刻み | M77: パン | Q77: 軟飯 | R77: 半
A78: 75 | B78: 3 | C78: 福島 輝雄
A79: 76 | B79: 3 | C79: 山崎 ツヤ子 | D79: オレンジジュース | E79: 軟菜 | M79: 日替わり | Q79: 軟飯 | R79: 半
A80: 77
A81: 78
A82: 79
A83: 80
A84: 81
A85: 82
A86: 83
A87: 84
A88: 85
A89: 86
A90: 87
A91: 88
... A156: 154
A157: ↑ ここまで名前定義済(行を増やす時は、黒の塗りつぶしより上で行の挿入をして下さい) ↑
